Workbook
Name cntr_dd_col: INDEX(cntr_tbl_choices,,cntr_dd_col_num)
Name cntr_dd_col_num: MATCH('Tariff template'!$F1,cntr_dd_regions,0)
Name cntr_dd_regions: 'Master Values'!$BH$6:$BM$6
Name cntr_dd_reps: INDEX(cntr_tbl_choices,,MATCH('Tariff template'!$F1048556,cntr_dd_regions,0))
Name cntr_dd_reps2: INDEX(cntr_tbl_choices,1,cntr_dd_col_num) : INDEX(cntr_tbl_choices,COUNTA(cntr_dd_col),cntr_dd_col_num)
Name cntr_tbl_choices: 'Master Values'!$BH$7:$BM$11
Name dd_col: INDEX(tbl_choices,,dd_col_num)
Name dd_col_num: MATCH('Tariff template'!$B1,dd_regions,0)
Name dd_regions: 'Master Values'!$K$6:$AN$6
Name dd_reps: INDEX(tbl_choices,,MATCH('Tariff template'!$B1,dd_regions,0))
Name dd_reps2: INDEX(tbl_choices,1,dd_col_num) : INDEX(tbl_choices,COUNTA(dd_col),dd_col_num)
Name from_dd_col: INDEX(from_tbl_choices,,from_dd_col_num)
Name from_dd_col_num: MATCH('Tariff template'!$I1,from_dd_regions,0)
Name from_dd_regions: 'Master Values'!$BO$6:$BP$6
Name from_dd_reps: INDEX(from_tbl_choices,,MATCH('Tariff template'!$I1,from_dd_regions,0))
Name from_dd_reps2: INDEX(from_tbl_choices,1,from_dd_col_num) : INDEX(from_tbl_choices,COUNTA(from_dd_col),from_dd_col_num)
Name from_tbl_choices: 'Master Values'!$BO$7:$BP$1003
Name master_choices: 'Master Values'!$F$7:$F$36
Name slab_dd_col: INDEX(slab_tbl_choices,,slab_dd_col_num)
Name slab_dd_col_num: MATCH('Tariff template'!$F1,slab_dd_regions,0)
Name slab_dd_regions: 'Master Values'!$AP$6:$AU$6
Name slab_dd_reps: INDEX(slab_tbl_choices,,MATCH('Tariff template'!$F1,slab_dd_regions,0))
Name slab_dd_reps2: INDEX(slab_tbl_choices,1,slab_dd_col_num) : INDEX(slab_tbl_choices,COUNTA(slab_dd_col),slab_dd_col_num)
Name slab_tbl_choices: 'Master Values'!$AP$7:$AU$8
Name tbl_choices: 'Master Values'!$K$7:$AN$12
Name type_dd_col: INDEX(type_tbl_choices,,type_dd_col_num)
Name type_dd_col_num: MATCH('Tariff template'!$F1,type_dd_regions,0)
Name type_dd_regions: 'Master Values'!$AY$6:$BD$6
Name type_dd_reps: INDEX(type_tbl_choices,,MATCH('Tariff template'!$F1,type_dd_regions,0))
Name type_dd_reps2: INDEX(type_tbl_choices,1,type_dd_col_num) : INDEX(type_tbl_choices,COUNTA(type_dd_col),type_dd_col_num)
Name type_tbl_choices: 'Master Values'!$AY$7:$BD$11

Sheet Tariff template
A1: Mandatory | B1: Mandatory | C1: Auto-generated | D1: Mandatory if highlighted in column 'C' | E1: Mandatory | F1: Mandatory | G1: Mandatory | H1: Mandatory | I1: Mandatory | J1: Fill out only if column 'I' = Multiple | K1: Fill out only if column 'I' = Multiple | L1: Fill out only if column 'I' = Multiple | M1: Mandatory | N1: Mandatory (Numeric value) | O1: Mandatory | P1: Auto-generated | Q1: Mandatory | R1: Optional | S1: Optional
A2: Trade Type | B2: Tariff Category | C2: Tariff Description (Standardized) | D2: Tariff Description (Non-standardized/Misc) | E2: Tariff Code | F2: UOM | G2: Contr Size | H2: Cargo Type | I2: Slabs Single/Multiple | J2: Slab variable description | K2: Slab From | L2: Slab To | M2: Currency | N2: Rate | O2: VAT Applicable | P2: VAT %age | Q2: Valid From | R2: Valid To | S2: Remarks (free text)
A3: Import | B3: THC - Terminal handling charge | C3: =IFERROR(INDEX('Master Values'!$G$7:$G$36,MATCH('Tariff template'!B3,master_choices,0)),"") -> Terminal Handling Charge at Port | E3: DESTHCF1 | F3: Per Container | G3: 20 | H3: Dry - general/FAK | I3: Single | M3: AED | N3: 780 | O3: Zero rated | P3: =IFERROR(INDEX('Master Values'!$D$52:$D$54,MATCH('Tariff template'!O3,'Master Values'!$C$53:$C$55,0)),"") -> 0 | Q3: 45047 | R3: 45657
A4: Import | B4: THC - Terminal handling charge | C4: =IFERROR(INDEX('Master Values'!$G$7:$G$36,MATCH('Tariff template'!B4,master_choices,0)),"") -> Terminal Handling Charge at Port | E4: DESTHCF2 | F4: Per Container | G4: 20 | H4: Dry - general/FAK | I4: Multiple | J4: Per Container | K4: 1 | L4: 20 | M4: AED | N4: 780 | O4: Zero rated | P4: =IFERROR(INDEX('Master Values'!$D$52:$D$54,MATCH('Tariff template'!O4,'Master Values'!$C$53:$C$55,0)),"") -> 0 | Q4: 45047 | R4: 45657
A5: Import | B5: THC - Terminal handling charge | C5: =IFERROR(INDEX('Master Values'!$G$7:$G$36,MATCH('Tariff template'!B5,master_choices,0)),"") -> Terminal Handling Charge at Port | E5: DESTHCF2 | F5: Per Container | G5: 20 | H5: Dry - general/FAK | I5: Multiple | J5: Per Container | K5: 21 | L5: 999999 | M5: AED | N5: 780 | O5: Zero rated | P5: =IFERROR(INDEX('Master Values'!$D$52:$D$54,MATCH('Tariff template'!O5,'Master Values'!$C$53:$C$55,0)),"") -> 0 | Q5: 45047 | R5: 45657
A6: Import | B6: THC - Terminal handling charge | C6: =IFERROR(INDEX('Master Values'!$G$7:$G$36,MATCH('Tariff template'!B6,master_choices,0)),"") -> Terminal Handling Charge at Port | E6: DESTHCF4 | F6: Per Container | G6: 20 | H6: Reefer | I6: Single | M6: AED | N6: 780 | O6: Zero rated | P6: =IFERROR(INDEX('Master Values'!$D$52:$D$54,MATCH('Tariff template'!O6,'Master Values'!$C$53:$C$55,0)),"") -> 0 | Q6: 45047 | R6: 45657
A7: Import | B7: THC - Terminal handling charge | C7: =IFERROR(INDEX('Master Values'!$G$7:$G$36,MATCH('Tariff template'!B7,master_choices,0)),"") -> Terminal Handling Charge at Port | E7: DESTHCF5 | F7: Per Container | G7: 20 | H7: Reefer | I7: Multiple | J7: Per Container | K7: 1 | L7: 20 | M7: AED | N7: 780 | O7: Zero rated | P7: =IFERROR(INDEX('Master Values'!$D$52:$D$54,MATCH('Tariff template'!O7,'Master Values'!$C$53:$C$55,0)),"") -> 0 | Q7: 45047 | R7: 45657
A8: Import | B8: THC - Terminal handling charge | C8: =IFERROR(INDEX('Master Values'!$G$7:$G$36,MATCH('Tariff template'!B8,master_choices,0)),"") -> Terminal Handling Charge at Port | E8: DESTHCF5 | F8: Per Container | G8: 20 | H8: Reefer | I8: Multiple | J8: Per Container | K8: 21 | L8: 999999 | M8: AED | N8: 780 | O8: Zero rated | P8: =IFERROR(INDEX('Master Values'!$D$52:$D$54,MATCH('Tariff template'!O8,'Master Values'!$C$53:$C$55,0)),"") -> 0 | Q8: 45047 | R8: 45657
A9: Import | B9: THC - Terminal handling charge | C9: =IFERROR(INDEX('Master Values'!$G$7:$G$36,MATCH('Tariff template'!B9,master_choices,0)),"") -> Terminal Handling Charge at Port | E9: DESTHCF7 | F9: Per Container | G9: 20 | H9: Hazardous | I9: Single | M9: AED | N9: 1355 | O9: Zero rated | P9: =IFERROR(INDEX('Master Values'!$D$52:$D$54,MATCH('Tariff template'!O9,'Master Values'!$C$53:$C$55,0)),"") -> 0 | Q9: 45047 | R9: 45657
A10: Import | B10: THC - Terminal handling charge | C10: =IFERROR(INDEX('Master Values'!$G$7:$G$36,MATCH('Tariff template'!B10,master_choices,0)),"") -> Terminal Handling Charge at Port | E10: DESTHCF8 | F10: Per Container | G10: 20 | H10: Hazardous | I10: Multiple | J10: Per Container | K10: 1 | L10: 20 | M10: AED | N10: 1355 | O10: Zero rated | P10: =IFERROR(INDEX('Master Values'!$D$52:$D$54,MATCH('Tariff template'!O10,'Master Values'!$C$53:$C$55,0)),"") -> 0 | Q10: 45047 | R10: 45657
A11: Import | B11: THC - Terminal handling charge | C11: =IFERROR(INDEX('Master Values'!$G$7:$G$36,MATCH('Tariff template'!B11,master_choices,0)),"") -> Terminal Handling Charge at Port | E11: DESTHCF8 | F11: Per Container | G11: 20 | H11: Hazardous | I11: Multiple | J11: Per Container | K11: 21 | L11: 999999 | M11: AED | N11: 1355 | O11: Zero rated | P11: =IFERROR(INDEX('Master Values'!$D$52:$D$54,MATCH('Tariff template'!O11,'Master Values'!$C$53:$C$55,0)),"") -> 0 | Q11: 45047 | R11: 45657
A12: Import | B12: THC - Terminal handling charge | C12: =IFERROR(INDEX('Master Values'!$G$7:$G$36,MATCH('Tariff template'!B12,master_choices,0)),"") -> Terminal Handling Charge at Port | E12: DESTHCF10 | F12: Per Container | G12: 20 | H12: Out-of-gauge | I12: Single | M12: AED | N12: 780 | O12: Zero rated | P12: =IFERROR(INDEX('Master Values'!$D$52:$D$54,MATCH('Tariff template'!O12,'Master Values'!$C$53:$C$55,0)),"") -> 0 | Q12: 45047 | R12: 45657
A13: Import | B13: THC - Terminal handling charge | C13: =IFERROR(INDEX('Master Values'!$G$7:$G$36,MATCH('Tariff template'!B13,master_choices,0)),"") -> Terminal Handling Charge at Port | E13: DESTHCF11 | F13: Per Container | G13: 20 | H13: Out-of-gauge | I13: Multiple | J13: Per Container | K13: 1 | L13: 20 | M13: AED | N13: 780 | O13: Zero rated | P13: =IFERROR(INDEX('Master Values'!$D$52:$D$54,MATCH('Tariff template'!O13,'Master Values'!$C$53:$C$55,0)),"") -> 0 | Q13: 45047 | R13: 45657
A14: Import | B14: THC - Terminal handling charge | C14: =IFERROR(INDEX('Master Values'!$G$7:$G$36,MATCH('Tariff template'!B14,master_choices,0)),"") -> Terminal Handling Charge at Port | E14: DESTHCF11 | F14: Per Container | G14: 20 | H14: Out-of-gauge | I14: Multiple | J14: Per Container | K14: 21 | L14: 999999 | M14: AED | N14: 780 | O14: Zero rated | P14: =IFERROR(INDEX('Master Values'!$D$52:$D$54,MATCH('Tariff template'!O14,'Master Values'!$C$53:$C$55,0)),"") -> 0 | Q14: 45047 | R14: 45657
A15: Import | B15: THC - Terminal handling charge | C15: =IFERROR(INDEX('Master Values'!$G$7:$G$36,MATCH('Tariff template'!B15,master_choices,0)),"") -> Terminal Handling Charge at Port | E15: DESTHCF13 | F15: Per Container | G15: 20 | H15: Misc | I15: Single | M15: AED | N15: 780 | O15: Zero rated | P15: =IFERROR(INDEX('Master Values'!$D$52:$D$54,MATCH('Tariff template'!O15,'Master Values'!$C$53:$C$55,0)),"") -> 0 | Q15: 45047 | R15: 45657
A16: Import | B16: THC - Terminal handling charge | C16: =IFERROR(INDEX('Master Values'!$G$7:$G$36,MATCH('Tariff template'!B16,master_choices,0)),"") -> Terminal Handling Charge at Port | E16: DESTHCF14 | F16: Per Container | G16: 20 | H16: Misc | I16: Multiple | J16: Per Container | K16: 1 | L16: 20 | M16: AED | N16: 780 | O16: Zero rated | P16: =IFERROR(INDEX('Master Values'!$D$52:$D$54,MATCH('Tariff template'!O16,'Master Values'!$C$53:$C$55,0)),"") -> 0 | Q16: 45047 | R16: 45657
A17: Import | B17: THC - Terminal handling charge | C17: =IFERROR(INDEX('Master Values'!$G$7:$G$36,MATCH('Tariff template'!B17,master_choices,0)),"") -> Terminal Handling Charge at Port | E17: DESTHCF14 | F17: Per Container | G17: 20 | H17: Misc | I17: Multiple | J17: Per Container | K17: 21 | L17: 999999 | M17: AED | N17: 780 | O17: Zero rated | P17: =IFERROR(INDEX('Master Values'!$D$52:$D$54,MATCH('Tariff template'!O17,'Master Values'!$C$53:$C$55,0)),"") -> 0 | Q17: 45047 | R17: 45657
A18: Import | B18: THC - Terminal handling charge | C18: =IFERROR(INDEX('Master Values'!$G$7:$G$36,MATCH('Tariff template'!B18,master_choices,0)),"") -> Terminal Handling Charge at Port | E18: DESTHCF16 | F18: Per Container | G18: 40 | H18: Dry - general/FAK | I18: Single | M18: AED | N18: 1210 | O18: Zero rated | P18: =IFERROR(INDEX('Master Values'!$D$52:$D$54,MATCH('Tariff template'!O18,'Master Values'!$C$53:$C$55,0)),"") -> 0 | Q18: 45047 | R18: 45657
A19: Import | B19: THC - Terminal handling charge | C19: =IFERROR(INDEX('Master Values'!$G$7:$G$36,MATCH('Tariff template'!B19,master_choices,0)),"") -> Terminal Handling Charge at Port | E19: DESTHCF17 | F19: Per Container | G19: 40 | H19: Dry - general/FAK | I19: Multiple | J19: Per Container | K19: 1 | L19: 20 | M19: AED | N19: 1210 | O19: Zero rated | P19: =IFERROR(INDEX('Master Values'!$D$52:$D$54,MATCH('Tariff template'!O19,'Master Values'!$C$53:$C$55,0)),"") -> 0 | Q19: 45047 | R19: 45657
A20: Import | B20: THC - Terminal handling charge | C20: =IFERROR(INDEX('Master Values'!$G$7:$G$36,MATCH('Tariff template'!B20,master_choices,0)),"") -> Terminal Handling Charge at Port | E20: DESTHCF17 | F20: Per Container | G20: 40 | H20: Dry - general/FAK | I20: Multiple | J20: Per Container | K20: 21 | L20: 999999 | M20: AED | N20: 1210 | O20: Zero rated | P20: =IFERROR(INDEX('Master Values'!$D$52:$D$54,MATCH('Tariff template'!O20,'Master Values'!$C$53:$C$55,0)),"") -> 0 | Q20: 45047 | R20: 45657
A21: Import | B21: THC - Terminal handling charge | C21: =IFERROR(INDEX('Master Values'!$G$7:$G$36,MATCH('Tariff template'!B21,master_choices,0)),"") -> Terminal Handling Charge at Port | E21: DESTHCF19 | F21: Per Container | G21: 40 | H21: Reefer | I21: Single | M21: AED | N21: 1210 | O21: Zero rated | P21: =IFERROR(INDEX('Master Values'!$D$52:$D$54,MATCH('Tariff template'!O21,'Master Values'!$C$53:$C$55,0)),"") -> 0 | Q21: 45047 | R21: 45657
A22: Import | B22: THC - Terminal handling charge | C22: =IFERROR(INDEX('Master Values'!$G$7:$G$36,MATCH('Tariff template'!B22,master_choices,0)),"") -> Terminal Handling Charge at Port | E22: DESTHCF20 | F22: Per Container | G22: 40 | H22: Reefer | I22: Multiple | J22: Per Container | K22: 1 | L22: 20 | M22: AED | N22: 1210 | O22: Zero rated | P22: =IFERROR(INDEX('Master Values'!$D$52:$D$54,MATCH('Tariff template'!O22,'Master Values'!$C$53:$C$55,0)),"") -> 0 | Q22: 45047 | R22: 45657
A23: Import | B23: THC - Terminal handling charge | C23: =IFERROR(INDEX('Master Values'!$G$7:$G$36,MATCH('Tariff template'!B23,master_choices,0)),"") -> Terminal Handling Charge at Port | E23: DESTHCF20 | F23: Per Container | G23: 40 | H23: Reefer | I23: Multiple | J23: Per Container | K23: 21 | L23: 999999 | M23: AED | N23: 1210 | O23: Zero rated | P23: =IFERROR(INDEX('Master Values'!$D$52:$D$54,MATCH('Tariff template'!O23,'Master Values'!$C$53:$C$55,0)),"") -> 0 | Q23: 45047 | R23: 45657
A24: Import | B24: THC - Terminal handling charge | C24: =IFERROR(INDEX('Master Values'!$G$7:$G$36,MATCH('Tariff template'!B24,master_choices,0)),"") -> Terminal Handling Charge at Port | E24: DESTHCF22 | F24: Per Container | G24: 40 | H24: Hazardous | I24: Single | M24: AED | N24: 1785 | O24: Zero rated | P24: =IFERROR(INDEX('Master Values'!$D$52:$D$54,MATCH('Tariff template'!O24,'Master Values'!$C$53:$C$55,0)),"") -> 0 | Q24: 45047 | R24: 45657
A25: Import | B25: THC - Terminal handling charge | C25: =IFERROR(INDEX('Master Values'!$G$7:$G$36,MATCH('Tariff template'!B25,master_choices,0)),"") -> Terminal Handling Charge at Port | E25: DESTHCF23 | F25: Per Container | G25: 40 | H25: Hazardous | I25: Multiple | J25: Per Container | K25: 1 | L25: 20 | M25: AED | N25: 1785 | O25: Zero rated | P25: =IFERROR(INDEX('Master Values'!$D$52:$D$54,MATCH('Tariff template'!O25,'Master Values'!$C$53:$C$55,0)),"") -> 0 | Q25: 45047 | R25: 45657
A26: Import | B26: THC - Terminal handling charge | C26: =IFERROR(INDEX('Master Values'!$G$7:$G$36,MATCH('Tariff template'!B26,master_choices,0)),"") -> Terminal Handling Charge at Port | E26: DESTHCF23 | F26: Per Container | G26: 40 | H26: Hazardous | I26: Multiple | J26: Per Container | K26: 21 | L26: 999999 | M26: AED | N26: 1785 | O26: Zero rated | P26: =IFERROR(INDEX('Master Values'!$D$52:$D$54,MATCH('Tariff template'!O26,'Master Values'!$C$53:$C$55,0)),"") -> 0 | Q26: 45047 | R26: 45657
A27: Import | B27: THC - Terminal handling charge | C27: =IFERROR(INDEX('Master Values'!$G$7:$G$36,MATCH('Tariff template'!B27,master_choices,0)),"") -> Terminal Handling Charge at Port | E27: DESTHCF25 | F27: Per Container | G27: 40 | H27: Out-of-gauge | I27: Single | M27: AED | N27: 1210 | O27: Zero rated | P27: =IFERROR(INDEX('Master Values'!$D$52:$D$54,MATCH('Tariff template'!O27,'Master Values'!$C$53:$C$55,0)),"") -> 0 | Q27: 45047 | R27: 45657
A28: Import | B28: THC - Terminal handling charge | C28: =IFERROR(INDEX('Master Values'!$G$7:$G$36,MATCH('Tariff template'!B28,master_choices,0)),"") -> Terminal Handling Charge at Port | E28: DESTHCF26 | F28: Per Container | G28: 40 | H28: Out-of-gauge | I28: Multiple | J28: Per Container | K28: 1 | L28: 20 | M28: AED | N28: 1210 | O28: Zero rated | P28: =IFERROR(INDEX('Master Values'!$D$52:$D$54,MATCH('Tariff template'!O28,'Master Values'!$C$53:$C$55,0)),"") -> 0 | Q28: 45047 | R28: 45657
A29: Import | B29: THC - Terminal handling charge | C29: =IFERROR(INDEX('Master Values'!$G$7:$G$36,MATCH('Tariff template'!B29,master_choices,0)),"") -> Terminal Handling Charge at Port | E29: DESTHCF26 | F29: Per Container | G29: 40 | H29: Out-of-gauge | I29: Multiple | J29: Per Container | K29: 21 | L29: 999999 | M29: AED | N29: 1210 | O29: Zero rated | P29: =IFERROR(INDEX('Master Values'!$D$52:$D$54,MATCH('Tariff template'!O29,'Master Values'!$C$53:$C$55,0)),"") -> 0 | Q29: 45047 | R29: 45657
A30: Import | B30: THC - Terminal handling charge | C30: =IFERROR(INDEX('Master Values'!$G$7:$G$36,MATCH('Tariff template'!B30,master_choices,0)),"") -> Terminal Handling Charge at Port | E30: DESTHCF28 | F30: Per Container | G30: 40 | H30: Misc | I30: Single | M30: AED | N30: 1210 | O30: Zero rated | P30: =IFERROR(INDEX('Master Values'!$D$52:$D$54,MATCH('Tariff template'!O30,'Master Values'!$C$53:$C$55,0)),"") -> 0 | Q30: 45047 | R30: 45657
A31: Import | B31: THC - Terminal handling charge | C31: =IFERROR(INDEX('Master Values'!$G$7:$G$36,MATCH('Tariff template'!B31,master_choices,0)),"") -> Terminal Handling Charge at Port | E31: DESTHCF29 | F31: Per Container | G31: 40 | H31: Misc | I31: Multiple | J31: Per Container | K31: 1 | L31: 20 | M31: AED | N31: 1210 | O31: Zero rated | P31: =IFERROR(INDEX('Master Values'!$D$52:$D$54,MATCH('Tariff template'!O31,'Master Values'!$C$53:$C$55,0)),"") -> 0 | Q31: 45047 | R31: 45657
A32: Import | B32: THC - Terminal handling charge | C32: =IFERROR(INDEX('Master Values'!$G$7:$G$36,MATCH('Tariff template'!B32,master_choices,0)),"") -> Terminal Handling Charge at Port | E32: DESTHCF29 | F32: Per Container | G32: 40 | H32: Misc | I32: Multiple | J32: Per Container | K32: 21 | L32: 999999 | M32: AED | N32: 1210 | O32: Zero rated | P32: =IFERROR(INDEX('Master Values'!$D$52:$D$54,MATCH('Tariff template'!O32,'Master Values'!$C$53:$C$55,0)),"") -> 0 | Q32: 45047 | R32: 45657
A33: Import | B33: THC - Terminal handling charge | C33: =IFERROR(INDEX('Master Values'!$G$7:$G$36,MATCH('Tariff template'!B33,master_choices,0)),"") -> Terminal Handling Charge at Port | E33: DESTHCF31 | F33: Per Container | G33: 45 | H33: Dry - general/FAK | I33: Single | M33: AED | N33: 1210 | O33: ZERO RATED | P33: =IFERROR(INDEX('Master Values'!$D$52:$D$54,MATCH('Tariff template'!O33,'Master Values'!$C$53:$C$55,0)),"") -> 0 | Q33: 45047 | R33: 45657
A34: Import | B34: THC - Terminal handling charge | C34: =IFERROR(INDEX('Master Values'!$G$7:$G$36,MATCH('Tariff template'!B34,master_choices,0)),"") -> Terminal Handling Charge at Port | E34: DESTHCF32 | F34: Per Container | G34: 45 | H34: Dry - general/FAK | I34: Multiple | J34: Per Container | K34: 1 | L34: 20 | M34: AED | N34: 1210 | O34: ZERO RATED | P34: =IFERROR(INDEX('Master Values'!$D$52:$D$54,MATCH('Tariff template'!O34,'Master Values'!$C$53:$C$55,0)),"") -> 0 | Q34: 45047 | R34: 45657
A35: Import | B35: THC - Terminal handling charge | C35: =IFERROR(INDEX('Master Values'!$G$7:$G$36,MATCH('Tariff template'!B35,master_choices,0)),"") -> Terminal Handling Charge at Port | E35: DESTHCF32 | F35: Per Container | G35: 45 | H35: Dry - general/FAK | I35: Multiple | J35: Per Container | K35: 21 | L35: 999999 | M35: AED | N35: 1210 | O35: ZERO RATED | P35: =IFERROR(INDEX('Master Values'!$D$52:$D$54,MATCH('Tariff template'!O35,'Master Values'!$C$53:$C$55,0)),"") -> 0 | Q35: 45047 | R35: 45657
A36: Import | B36: THC - Terminal handling charge | C36: =IFERROR(INDEX('Master Values'!$G$7:$G$36,MATCH('Tariff template'!B36,master_choices,0)),"") -> Terminal Handling Charge at Port | E36: DESTHCF33 | F36: Per Container | G36: 45 | H36: Reefer | I36: Single | M36: AED | N36: 1210 | O36: ZERO RATED | P36: =IFERROR(INDEX('Master Values'!$D$52:$D$54,MATCH('Tariff template'!O36,'Master Values'!$C$53:$C$55,0)),"") -> 0 | Q36: 45047 | R36: 45657
A37: Import | B37: THC - Terminal handling charge | C37: =IFERROR(INDEX('Master Values'!$G$7:$G$36,MATCH('Tariff template'!B37,master_choices,0)),"") -> Terminal Handling Charge at Port | E37: DESTHCF34 | F37: Per Container | G37: 45 | H37: Reefer | I37: Multiple | J37: Per Container | K37: 1 | L37: 20 | M37: AED | N37: 1210 | O37: ZERO RATED | P37: =IFERROR(INDEX('Master Values'!$D$52:$D$54,MATCH('Tariff template'!O37,'Master Values'!$C$53:$C$55,0)),"") -> 0 | Q37: 45047 | R37: 45657
A38: Import | B38: THC - Terminal handling charge | C38: =IFERROR(INDEX('Master Values'!$G$7:$G$36,MATCH('Tariff template'!B38,master_choices,0)),"") -> Terminal Handling Charge at Port | E38: DESTHCF34 | F38: Per Container | G38: 45 | H38: Reefer | I38: Multiple | J38: Per Container | K38: 21 | L38: 999999 | M38: AED | N38: 1210 | O38: ZERO RATED | P38: =IFERROR(INDEX('Master Values'!$D$52:$D$54,MATCH('Tariff template'!O38,'Master Values'!$C$53:$C$55,0)),"") -> 0 | Q38: 45047 | R38: 45657
A39: Import | B39: THC - Terminal handling charge | C39: =IFERROR(INDEX('Master Values'!$G$7:$G$36,MATCH('Tariff template'!B39,master_choices,0)),"") -> Terminal Handling Charge at Port | E39: DESTHCF36 | F39: Per Container | G39: 45 | H39: Hazardous | I39: Single | M39: AED | N39: 1785 | O39: ZERO RATED | P39: =IFERROR(INDEX('Master Values'!$D$52:$D$54,MATCH('Tariff template'!O39,'Master Values'!$C$53:$C$55,0)),"") -> 0 | Q39: 45047 | R39: 45657
A40: Import | B40: THC - Terminal handling charge | C40: =IFERROR(INDEX('Master Values'!$G$7:$G$36,MATCH('Tariff template'!B40,master_choices,0)),"") -> Terminal Handling Charge at Port | E40: DESTHCF37 | F40: Per Container | G40: 45 | H40: Hazardous | I40: Multiple | J40: Per Container | K40: 1 | L40: 20 | M40: AED | N40: 1785 | O40: ZERO RATED | P40: =IFERROR(INDEX('Master Values'!$D$52:$D$54,MATCH('Tariff template'!O40,'Master Values'!$C$53:$C$55,0)),"") -> 0 | Q40: 45047 | R40: 45657
A41: Import | B41: THC - Terminal handling charge | C41: =IFERROR(INDEX('Master Values'!$G$7:$G$36,MATCH('Tariff template'!B41,master_choices,0)),"") -> Terminal Handling Charge at Port | E41: DESTHCF37 | F41: Per Container | G41: 45 | H41: Hazardous | I41: Multiple | J41: Per Container | K41: 21 | L41: 999999 | M41: AED | N41: 1785 | O41: ZERO RATED | P41: =IFERROR(INDEX('Master Values'!$D$52:$D$54,MATCH('Tariff template'!O41,'Master Values'!$C$53:$C$55,0)),"") -> 0 | Q41: 45047 | R41: 45657
A42: Import | B42: THC - Terminal handling charge | C42: =IFERROR(INDEX('Master Values'!$G$7:$G$36,MATCH('Tariff template'!B42,master_choices,0)),"") -> Terminal Handling Charge at Port | E42: DESTHCF39 | F42: Per Container | G42: 45 | H42: Out-of-gauge | I42: Single | M42: AED | N42: 1785 | O42: ZERO RATED | P42: =IFERROR(INDEX('Master Values'!$D$52:$D$54,MATCH('Tariff template'!O42,'Master Values'!$C$53:$C$55,0)),"") -> 0 | Q42: 45047 | R42: 45657
A43: Import | B43: THC - Terminal handling charge | C43: =IFERROR(INDEX('Master Values'!$G$7:$G$36,MATCH('Tariff template'!B43,master_choices,0)),"") -> Terminal Handling Charge at Port | E43: DESTHCF40 | F43: Per Container | G43: 45 | H43: Out-of-gauge | I43: Multiple | J43: Per Container | K43: 1 | L43: 20 | M43: AED | N43: 1785 | O43: ZERO RATED | P43: =IFERROR(INDEX('Master Values'!$D$52:$D$54,MATCH('Tariff template'!O43,'Master Values'!$C$53:$C$55,0)),"") -> 0 | Q43: 45047 | R43: 45657
A44: Import | B44: THC - Terminal handling charge | C44: =IFERROR(INDEX('Master Values'!$G$7:$G$36,MATCH('Tariff template'!B44,master_choices,0)),"") -> Terminal Handling Charge at Port | E44: DESTHCF40 | F44: Per Container | G44: 45 | H44: Out-of-gauge | I44: Multiple | J44: Per Container | K44: 21 | L44: 999999 | M44: AED | N44: 1785 | O44: ZERO RATED | P44: =IFERROR(INDEX('Master Values'!$D$52:$D$54,MATCH('Tariff template'!O44,'Master Values'!$C$53:$C$55,0)),"") -> 0 | Q44: 45047 | R44: 45657
A45: Import | B45: THC - Terminal handling charge | C45: =IFERROR(INDEX('Master Values'!$G$7:$G$36,MATCH('Tariff template'!B45,master_choices,0)),"") -> Terminal Handling Charge at Port | E45: DESTHCF42 | F45: Per Container | G45: 45 | H45: Misc | I45: Single | M45: AED | N45: 1785 | O45: ZERO RATED | P45: =IFERROR(INDEX('Master Values'!$D$52:$D$54,MATCH('Tariff template'!O45,'Master Values'!$C$53:$C$55,0)),"") -> 0 | Q45: 45047 | R45: 45657
A46: Import | B46: THC - Terminal handling charge | C46: =IFERROR(INDEX('Master Values'!$G$7:$G$36,MATCH('Tariff template'!B46,master_choices,0)),"") -> Terminal Handling Charge at Port | E46: DESTHCF43 | F46: Per Container | G46: 45 | H46: Misc | I46: Multiple | J46: Per Container | K46: 1 | L46: 20 | M46: AED | N46: 1785 | O46: ZERO RATED | P46: =IFERROR(INDEX('Master Values'!$D$52:$D$54,MATCH('Tariff template'!O46,'Master Values'!$C$53:$C$55,0)),"") -> 0 | Q46: 45047 | R46: 45657
A47: Import | B47: THC - Terminal handling charge | C47: =IFERROR(INDEX('Master Values'!$G$7:$G$36,MATCH('Tariff template'!B47,master_choices,0)),"") -> Terminal Handling Charge at Port | E47: DESTHCF43 | F47: Per Container | G47: 45 | H47: Misc | I47: Multiple | J47: Per Container | K47: 21 | L47: 999999 | M47: AED | N47: 1785 | O47: ZERO RATED | P47: =IFERROR(INDEX('Master Values'!$D$52:$D$54,MATCH('Tariff template'!O47,'Master Values'!$C$53:$C$55,0)),"") -> 0 | Q47: 45047 | R47: 45657
A48: Import | B48: DO - D/O fee | C48: =IFERROR(INDEX('Master Values'!$G$7:$G$36,MATCH('Tariff template'!B48,master_choices,0)),"") -> Delivery Order issuance Charge | E48: DOF1 | F48: Per Document | G48: All - Any container size | H48: Misc | I48: Single | M48: AED | N48: 500 | O48: ZERO RATED | P48: =IFERROR(INDEX('Master Values'!$D$52:$D$54,MATCH('Tariff template'!O48,'Master Values'!$C$53:$C$55,0)),"") -> 0 | Q48: 45047 | R48: 45657
A49: Import | B49: DO - D/O fee | C49: =IFERROR(INDEX('Master Values'!$G$7:$G$36,MATCH('Tariff template'!B49,master_choices,0)),"") -> Delivery Order issuance Charge | E49: DOF2 | F49: Per Document | G49: All - Any container size | H49: Misc | I49: Multiple | J49: Per Document | K49: 1 | L49: 999999 | M49: AED | N49: 1000 | O49: ZERO RATED | P49: =IFERROR(INDEX('Master Values'!$D$52:$D$54,MATCH('Tariff template'!O49,'Master Values'!$C$53:$C$55,0)),"") -> 0 | Q49: 45047 | R49: 45657
A50: Import | B50: SHIFT - Lift on – lift off charge (TLUC) | C50: =IFERROR(INDEX('Master Values'!$G$7:$G$36,MATCH('Tariff template'!B50,master_choices,0)),"") -> Charge for Loading and Unloading containers To / From Trucks within Port | E50: LOLOF1 | F50: Per Container | G50: 20 | H50: Dry - general/FAK | I50: Single | M50: AED | N50: 314 | O50: Zero rated | P50: =IFERROR(INDEX('Master Values'!$D$52:$D$54,MATCH('Tariff template'!O50,'Master Values'!$C$53:$C$55,0)),"") -> 0 | Q50: 45047 | R50: 45657
A51: Import | B51: SHIFT - Lift on – lift off charge (TLUC) | C51: =IFERROR(INDEX('Master Values'!$G$7:$G$36,MATCH('Tariff template'!B51,master_choices,0)),"") -> Charge for Loading and Unloading containers To / From Trucks within Port | E51: LOLOF2 | F51: Per Container | G51: 20 | H51: Dry - general/FAK | I51: Multiple | J51: Per Container | K51: 1 | L51: 20 | M51: AED | N51: 314 | O51: Zero rated | P51: =IFERROR(INDEX('Master Values'!$D$52:$D$54,MATCH('Tariff template'!O51,'Master Values'!$C$53:$C$55,0)),"") -> 0 | Q51: 45047 | R51: 45657
A52: Import | B52: SHIFT - Lift on – lift off charge (TLUC) | C52: =IFERROR(INDEX('Master Values'!$G$7:$G$36,MATCH('Tariff template'!B52,master_choices,0)),"") -> Charge for Loading and Unloading containers To / From Trucks within Port | E52: LOLOF2 | F52: Per Container | G52: 20 | H52: Dry - general/FAK | I52: Multiple | J52: Per Container | K52: 21 | L52: 999999 | M52: AED | N52: 314 | O52: Zero rated | P52: =IFERROR(INDEX('Master Values'!$D$52:$D$54,MATCH('Tariff template'!O52,'Master Values'!$C$53:$C$55,0)),"") -> 0 | Q52: 45047 | R52: 45657
A53: Import | B53: SHIFT - Lift on – lift off charge (TLUC) | C53: =IFERROR(INDEX('Master Values'!$G$7:$G$36,MATCH('Tariff template'!B53,master_choices,0)),"") -> Charge for Loading and Unloading containers To / From Trucks within Port | E53: LOLOF4 | F53: Per Container | G53: 20 | H53: Reefer | I53: Single | M53: AED | N53: 314 | O53: Zero rated | P53: =IFERROR(INDEX('Master Values'!$D$52:$D$54,MATCH('Tariff template'!O53,'Master Values'!$C$53:$C$55,0)),"") -> 0 | Q53: 45047 | R53: 45657
A54: Import | B54: SHIFT - Lift on – lift off charge (TLUC) | C54: =IFERROR(INDEX('Master Values'!$G$7:$G$36,MATCH('Tariff template'!B54,master_choices,0)),"") -> Charge for Loading and Unloading containers To / From Trucks within Port | E54: LOLOF5 | F54: Per Container | G54: 20 | H54: Reefer | I54: Multiple | J54: Per Container | K54: 1 | L54: 20 | M54: AED | N54: 314 | O54: Zero rated | P54: =IFERROR(INDEX('Master Values'!$D$52:$D$54,MATCH('Tariff template'!O54,'Master Values'!$C$53:$C$55,0)),"") -> 0 | Q54: 45047 | R54: 45657
A55: Import | B55: SHIFT - Lift on – lift off charge (TLUC) | C55: =IFERROR(INDEX('Master Values'!$G$7:$G$36,MATCH('Tariff template'!B55,master_choices,0)),"") -> Charge for Loading and Unloading containers To / From Trucks within Port | E55: LOLOF5 | F55: Per Container | G55: 20 | H55: Reefer | I55: Multiple | J55: Per Container | K55: 21 | L55: 999999 | M55: AED | N55: 314 | O55: Zero rated | P55: =IFERROR(INDEX('Master Values'!$D$52:$D$54,MATCH('Tariff template'!O55,'Master Values'!$C$53:$C$55,0)),"") -> 0 | Q55: 45047 | R55: 45657
A56: Import | B56: SHIFT - Lift on – lift off charge (TLUC) | C56: =IFERROR(INDEX('Master Values'!$G$7:$G$36,MATCH('Tariff template'!B56,master_choices,0)),"") -> Charge for Loading and Unloading containers To / From Trucks within Port | E56: LOLOF7 | F56: Per Container | G56: 20 | H56: Hazardous | I56: Single | J56: Per Container | M56: AED | N56: 314 | O56: Zero rated | P56: =IFERROR(INDEX('Master Values'!$D$52:$D$54,MATCH('Tariff template'!O56,'Master Values'!$C$53:$C$55,0)),"") -> 0 | Q56: 45047 | R56: 45657
A57: Import | B57: SHIFT - Lift on – lift off charge (TLUC) | C57: =IFERROR(INDEX('Master Values'!$G$7:$G$36,MATCH('Tariff template'!B57,master_choices,0)),"") -> Charge for Loading and Unloading containers To / From Trucks within Port | E57: LOLOF8 | F57: Per Container | G57: 20 | H57: Hazardous | I57: Multiple | J57: Per Container | K57: 1 | L57: 20 | M57: AED | N57: 314 | O57: Zero rated | P57: =IFERROR(INDEX('Master Values'!$D$52:$D$54,MATCH('Tariff template'!O57,'Master Values'!$C$53:$C$55,0)),"") -> 0 | Q57: 45047 | R57: 45657
A58: Import | B58: SHIFT - Lift on – lift off charge (TLUC) | C58: =IFERROR(INDEX('Master Values'!$G$7:$G$36,MATCH('Tariff template'!B58,master_choices,0)),"") -> Charge for Loading and Unloading containers To / From Trucks within Port | E58: LOLOF8 | F58: Per Container | G58: 20 | H58: Hazardous | I58: Multiple | J58: Per Container | K58: 21 | L58: 999999 | M58: AED | N58: 314 | O58: Zero rated | P58: =IFERROR(INDEX('Master Values'!$D$52:$D$54,MATCH('Tariff template'!O58,'Master Values'!$C$53:$C$55,0)),"") -> 0 | Q58: 45047 | R58: 45657
A59: Import | B59: SHIFT - Lift on – lift off charge (TLUC) | C59: =IFERROR(INDEX('Master Values'!$G$7:$G$36,MATCH('Tariff template'!B59,master_choices,0)),"") -> Charge for Loading and Unloading containers To / From Trucks within Port | E59: LOLOF10 | F59: Per Container | G59: 20 | H59: Out-of-gauge | I59: Single | M59: AED | N59: 314 | O59: Zero rated | P59: =IFERROR(INDEX('Master Values'!$D$52:$D$54,MATCH('Tariff template'!O59,'Master Values'!$C$53:$C$55,0)),"") -> 0 | Q59: 45047 | R59: 45657
A60: Import | B60: SHIFT - Lift on – lift off charge (TLUC) | C60: =IFERROR(INDEX('Master Values'!$G$7:$G$36,MATCH('Tariff template'!B60,master_choices,0)),"") -> Charge for Loading and Unloading containers To / From Trucks within Port | E60: LOLOF11 | F60: Per Container | G60: 20 | H60: Out-of-gauge | I60: Multiple | J60: Per Container | K60: 1 | L60: 20 | M60: AED | N60: 314 | O60: Zero rated | P60: =IFERROR(INDEX('Master Values'!$D$52:$D$54,MATCH('Tariff template'!O60,'Master Values'!$C$53:$C$55,0)),"") -> 0 | Q60: 45047 | R60: 45657
A61: Import | B61: SHIFT - Lift on – lift off charge (TLUC) | C61: =IFERROR(INDEX('Master Values'!$G$7:$G$36,MATCH('Tariff template'!B61,master_choices,0)),"") -> Charge for Loading and Unloading containers To / From Trucks within Port | E61: LOLOF11 | F61: Per Container | G61: 20 | H61: Out-of-gauge | I61: Multiple | J61: Per Container | K61: 21 | L61: 999999 | M61: AED | N61: 314 | O61: Zero rated | P61: =IFERROR(INDEX('Master Values'!$D$52:$D$54,MATCH('Tariff template'!O61,'Master Values'!$C$53:$C$55,0)),"") -> 0 | Q61: 45047 | R61: 45657
A62: Import | B62: SHIFT - Lift on – lift off charge (TLUC) | C62: =IFERROR(INDEX('Master Values'!$G$7:$G$36,MATCH('Tariff template'!B62,master_choices,0)),"") -> Charge for Loading and Unloading containers To / From Trucks within Port | E62: LOLOF13 | F62: Per Container | G62: 20 | H62: Misc | I62: Single | M62: AED | N62: 314 | O62: Zero rated | P62: =IFERROR(INDEX('Master Values'!$D$52:$D$54,MATCH('Tariff template'!O62,'Master Values'!$C$53:$C$55,0)),"") -> 0 | Q62: 45047 | R62: 45657
A63: Import | B63: SHIFT - Lift on – lift off charge (TLUC) | C63: =IFERROR(INDEX('Master Values'!$G$7:$G$36,MATCH('Tariff template'!B63,master_choices,0)),"") -> Charge for Loading and Unloading containers To / From Trucks within Port | E63: LOLOF14 | F63: Per Container | G63: 20 | H63: Misc | I63: Multiple | J63: Per Container | K63: 1 | L63: 20 | M63: AED | N63: 314 | O63: Zero rated | P63: =IFERROR(INDEX('Master Values'!$D$52:$D$54,MATCH('Tariff template'!O63,'Master Values'!$C$53:$C$55,0)),"") -> 0 | Q63: 45047 | R63: 45657
A64: Import | B64: SHIFT - Lift on – lift off charge (TLUC) | C64: =IFERROR(INDEX('Master Values'!$G$7:$G$36,MATCH('Tariff template'!B64,master_choices,0)),"") -> Charge for Loading and Unloading containers To / From Trucks within Port | E64: LOLOF14 | F64: Per Container | G64: 20 | H64: Misc | I64: Multiple | J64: Per Container | K64: 21 | L64: 999999 | M64: AED | N64: 314 | O64: Zero rated | P64: =IFERROR(INDEX('Master Values'!$D$52:$D$54,MATCH('Tariff template'!O64,'Master Values'!$C$53:$C$55,0)),"") -> 0 | Q64: 45047 | R64: 45657
A65: Import | B65: SHIFT - Lift on – lift off charge (TLUC) | C65: =IFERROR(INDEX('Master Values'!$G$7:$G$36,MATCH('Tariff template'!B65,master_choices,0)),"") -> Charge for Loading and Unloading containers To / From Trucks within Port | E65: LOLOF16 | F65: Per Container | G65: 40 | H65: Dry - general/FAK | I65: Single | M65: AED | N65: 314 | O65: Zero rated | P65: =IFERROR(INDEX('Master Values'!$D$52:$D$54,MATCH('Tariff template'!O65,'Master Values'!$C$53:$C$55,0)),"") -> 0 | Q65: 45047 | R65: 45657
A66: Import | B66: SHIFT - Lift on – lift off charge (TLUC) | C66: =IFERROR(INDEX('Master Values'!$G$7:$G$36,MATCH('Tariff template'!B66,master_choices,0)),"") -> Charge for Loading and Unloading containers To / From Trucks within Port | E66: LOLOF17 | F66: Per Container | G66: 40 | H66: Dry - general/FAK | I66: Multiple | J66: Per Container | K66: 1 | L66: 20 | M66: AED | N66: 314 | O66: Zero rated | P66: =IFERROR(INDEX('Master Values'!$D$52:$D$54,MATCH('Tariff template'!O66,'Master Values'!$C$53:$C$55,0)),"") -> 0 | Q66: 45047 | R66: 45657
A67: Import | B67: SHIFT - Lift on – lift off charge (TLUC) | C67: =IFERROR(INDEX('Master Values'!$G$7:$G$36,MATCH('Tariff template'!B67,master_choices,0)),"") -> Charge for Loading and Unloading containers To / From Trucks within Port | E67: LOLOF17 | F67: Per Container | G67: 40 | H67: Dry - general/FAK | I67: Multiple | J67: Per Container | K67: 21 | L67: 999999 | M67: AED | N67: 314 | O67: Zero rated | P67: =IFERROR(INDEX('Master Values'!$D$52:$D$54,MATCH('Tariff template'!O67,'Master Values'!$C$53:$C$55,0)),"") -> 0 | Q67: 45047 | R67: 45657
A68: Import | B68: SHIFT - Lift on – lift off charge (TLUC) | C68: =IFERROR(INDEX('Master Values'!$G$7:$G$36,MATCH('Tariff template'!B68,master_choices,0)),"") -> Charge for Loading and Unloading containers To / From Trucks within Port | E68: LOLOF19 | F68: Per Container | G68: 40 | H68: Reefer | I68: Single | M68: AED | N68: 314 | O68: Zero rated | P68: =IFERROR(INDEX('Master Values'!$D$52:$D$54,MATCH('Tariff template'!O68,'Master Values'!$C$53:$C$55,0)),"") -> 0 | Q68: 45047 | R68: 45657
A69: Import | B69: SHIFT - Lift on – lift off charge (TLUC) | C69: =IFERROR(INDEX('Master Values'!$G$7:$G$36,MATCH('Tariff template'!B69,master_choices,0)),"") -> Charge for Loading and Unloading containers To / From Trucks within Port | E69: LOLOF20 | F69: Per Container | G69: 40 | H69: Reefer | I69: Multiple | J69: Per Container | K69: 1 | L69: 20 | M69: AED | N69: 314 | O69: Zero rated | P69: =IFERROR(INDEX('Master Values'!$D$52:$D$54,MATCH('Tariff template'!O69,'Master Values'!$C$53:$C$55,0)),"") -> 0 | Q69: 45047 | R69: 45657
A70: Import | B70: SHIFT - Lift on – lift off charge (TLUC) | C70: =IFERROR(INDEX('Master Values'!$G$7:$G$36,MATCH('Tariff template'!B70,master_choices,0)),"") -> Charge for Loading and Unloading containers To / From Trucks within Port | E70: LOLOF20 | F70: Per Container | G70: 40 | H70: Reefer | I70: Multiple | J70: Per Container | K70: 21 | L70: 999999 | M70: AED | N70: 314 | O70: Zero rated | P70: =IFERROR(INDEX('Master Values'!$D$52:$D$54,MATCH('Tariff template'!O70,'Master Values'!$C$53:$C$55,0)),"") -> 0 | Q70: 45047 | R70: 45657
A71: Import | B71: SHIFT - Lift on – lift off charge (TLUC) | C71: =IFERROR(INDEX('Master Values'!$G$7:$G$36,MATCH('Tariff template'!B71,master_choices,0)),"") -> Charge for Loading and Unloading containers To / From Trucks within Port | E71: LOLOF22 | F71: Per Container | G71: 40 | H71: Hazardous | I71: Single | M71: AED | N71: 314 | O71: Zero rated | P71: =IFERROR(INDEX('Master Values'!$D$52:$D$54,MATCH('Tariff template'!O71,'Master Values'!$C$53:$C$55,0)),"") -> 0 | Q71: 45047 | R71: 45657
A72: Import | B72: SHIFT - Lift on – lift off charge (TLUC) | C72: =IFERROR(INDEX('Master Values'!$G$7:$G$36,MATCH('Tariff template'!B72,master_choices,0)),"") -> Charge for Loading and Unloading containers To / From Trucks within Port | E72: LOLOF23 | F72: Per Container | G72: 40 | H72: Hazardous | I72: Multiple | J72: Per Container | K72: 1 | L72: 20 | M72: AED | N72: 314 | O72: Zero rated | P72: =IFERROR(INDEX('Master Values'!$D$52:$D$54,MATCH('Tariff template'!O72,'Master Values'!$C$53:$C$55,0)),"") -> 0 | Q72: 45047 | R72: 45657
A73: Import | B73: SHIFT - Lift on – lift off charge (TLUC) | C73: =IFERROR(INDEX('Master Values'!$G$7:$G$36,MATCH('Tariff template'!B73,master_choices,0)),"") -> Charge for Loading and Unloading containers To / From Trucks within Port | E73: LOLOF23 | F73: Per Container | G73: 40 | H73: Hazardous | I73: Multiple | J73: Per Container | K73: 21 | L73: 999999 | M73: AED | N73: 314 | O73: Zero rated | P73: =IFERROR(INDEX('Master Values'!$D$52:$D$54,MATCH('Tariff template'!O73,'Master Values'!$C$53:$C$55,0)),"") -> 0 | Q73: 45047 | R73: 45657
A74: Import | B74: SHIFT - Lift on – lift off charge (TLUC) | C74: =IFERROR(INDEX('Master Values'!$G$7:$G$36,MATCH('Tariff template'!B74,master_choices,0)),"") -> Charge for Loading and Unloading containers To / From Trucks within Port | E74: LOLOF25 | F74: Per Container | G74: 40 | H74: Out-of-gauge | I74: Single | M74: AED | N74: 314 | O74: Zero rated | P74: =IFERROR(INDEX('Master Values'!$D$52:$D$54,MATCH('Tariff template'!O74,'Master Values'!$C$53:$C$55,0)),"") -> 0 | Q74: 45047 | R74: 45657
A75: Import | B75: SHIFT - Lift on – lift off charge (TLUC) | C75: =IFERROR(INDEX('Master Values'!$G$7:$G$36,MATCH('Tariff template'!B75,master_choices,0)),"") -> Charge for Loading and Unloading containers To / From Trucks within Port | E75: LOLOF26 | F75: Per Container | G75: 40 | H75: Out-of-gauge | I75: Multiple | J75: Per Container | K75: 1 | L75: 20 | M75: AED | N75: 314 | O75: Zero rated | P75: =IFERROR(INDEX('Master Values'!$D$52:$D$54,MATCH('Tariff template'!O75,'Master Values'!$C$53:$C$55,0)),"") -> 0 | Q75: 45047 | R75: 45657
A76: Import | B76: SHIFT - Lift on – lift off charge (TLUC) | C76: =IFERROR(INDEX('Master Values'!$G$7:$G$36,MATCH('Tariff template'!B76,master_choices,0)),"") -> Charge for Loading and Unloading containers To / From Trucks within Port | E76: LOLOF26 | F76: Per Container | G76: 40 | H76: Out-of-gauge | I76: Multiple | J76: Per Container | K76: 21 | L76: 999999 | M76: AED | N76: 314 | O76: Zero rated | P76: =IFERROR(INDEX('Master Values'!$D$52:$D$54,MATCH('Tariff template'!O76,'Master Values'!$C$53:$C$55,0)),"") -> 0 | Q76: 45047 | R76: 45657
A77: Import | B77: SHIFT - Lift on – lift off charge (TLUC) | C77: =IFERROR(INDEX('Master Values'!$G$7:$G$36,MATCH('Tariff template'!B77,master_choices,0)),"") -> Charge for Loading and Unloading containers To / From Trucks within Port | E77: LOLOF28 | F77: Per Container | G77: 40 | H77: Misc | I77: Single | M77: AED | N77: 314 | O77: Zero rated | P77: =IFERROR(INDEX('Master Values'!$D$52:$D$54,MATCH('Tariff template'!O77,'Master Values'!$C$53:$C$55,0)),"") -> 0 | Q77: 45047 | R77: 45657
A78: Import | B78: SHIFT - Lift on – lift off charge (TLUC) | C78: =IFERROR(INDEX('Master Values'!$G$7:$G$36,MATCH('Tariff template'!B78,master_choices,0)),"") -> Charge for Loading and Unloading containers To / From Trucks within Port | E78: LOLOF29 | F78: Per Container | G78: 40 | H78: Misc | I78: Multiple | J78: Per Container | K78: 1 | L78: 20 | M78: AED | N78: 314 | O78: Zero rated | P78: =IFERROR(INDEX('Master Values'!$D$52:$D$54,MATCH('Tariff template'!O78,'Master Values'!$C$53:$C$55,0)),"") -> 0 | Q78: 45047 | R78: 45657
A79: Import | B79: SHIFT - Lift on – lift off charge (TLUC) | C79: =IFERROR(INDEX('Master Values'!$G$7:$G$36,MATCH('Tariff template'!B79,master_choices,0)),"") -> Charge for Loading and Unloading containers To / From Trucks within Port | E79: LOLOF29 | F79: Per Container | G79: 40 | H79: Misc | I79: Multiple | J79: Per Container | K79: 21 | L79: 999999 | M79: AED | N79: 314 | O79: Zero rated | P79: =IFERROR(INDEX('Master Values'!$D$52:$D$54,MATCH('Tariff template'!O79,'Master Values'!$C$53:$C$55,0)),"") -> 0 | Q79: 45047 | R79: 45657
A80: Import | B80: MISC - Any sea container charge not within standardized tariff categories | C80: =IFERROR(INDEX('Master Values'!$G$7:$G$36,MATCH('Tariff template'!B80,master_choices,0)),"") -> Mandatory manual description: Insert in column "D" | D80: Service charges for Container Inspection | E80: LINCHAF1 | F80: Per Document | G80: All - Any container size | H80: Misc | I80: Single | M80: AED | N80: 250 | O80: Standard rated | P80: =IFERROR(INDEX('Master Values'!$D$52:$D$54,MATCH('Tariff template'!O80,'Master Values'!$C$53:$C$55,0)),"") -> 0.05 | Q80: 45047 | R80: 45657
A81: Import | B81: MISC - Any sea container charge not within standardized tariff categories | C81: =IFERROR(INDEX('Master Values'!$G$7:$G$36,MATCH('Tariff template'!B81,master_choices,0)),"") -> Mandatory manual description: Insert in column "D" | D81: Service charges for Container Inspection | E81: LINCHAF2 | F81: Per Document | G81: All - Any container size | H81: Misc | I81: Multiple | J81: Per Document | K81: 1 | L81: 999999 | M81: AED | N81: 250 | O81: Standard rated | P81: =IFERROR(INDEX('Master Values'!$D$52:$D$54,MATCH('Tariff template'!O81,'Master Values'!$C$53:$C$55,0)),"") -> 0.05 | Q81: 45047 | R81: 45657
A82: Import | B82: CUSTOMS - Customs inspection fees | C82: =IFERROR(INDEX('Master Values'!$G$7:$G$36,MATCH('Tariff template'!B82,master_choices,0)),"") -> Customs inspection fees (Import & Export) | E82: INSPF1 | F82: Per Document | G82: All - Any container size | H82: Misc | I82: Single | M82: AED | N82: 170 | O82: Zero rated | P82: 0 | Q82: 45047 | R82: 45657
A83: Import | B83: CUSTOMS - Customs inspection fees | C83: =IFERROR(INDEX('Master Values'!$G$7:$G$36,MATCH('Tariff template'!B83,master_choices,0)),"") -> Customs inspection fees (Import & Export) | E83: INSPF2B | F83: Per Document | G83: All - Any container size | H83: Misc | I83: Multiple | J83: Per Document | K83: 1 | L83: 999999 | M83: AED | N83: 170 | O83: Zero rated | P83: 0 | Q83: 45047 | R83: 45657
A84: Import | B84: SERVICE - Monitoring charge | C84: =IFERROR(INDEX('Master Values'!$G$7:$G$36,MATCH('Tariff template'!B84,master_choices,0)),"") -> Container monitoring / inspection charge (e.g. reefer/ hazardous) | E84: CMFF1 | F84: Per Container | G84: 20 | H84: Misc | I84: Single | M84: AED | N84: 155 | O84: Standard rated | P84: =IFERROR(INDEX('Master Values'!$D$52:$D$54,MATCH('Tariff template'!O84,'Master Values'!$C$53:$C$55,0)),"") -> 0.05 | Q84: 45047 | R84: 45657
A85: Import | B85: SERVICE - Monitoring charge | C85: =IFERROR(INDEX('Master Values'!$G$7:$G$36,MATCH('Tariff template'!B85,master_choices,0)),"") -> Container monitoring / inspection charge (e.g. reefer/ hazardous) | E85: CMFF2 | F85: Per Container | G85: 20 | H85: Misc | I85: Multiple | J85: Per Container | K85: 1 | L85: 999999 | M85: AED | N85: 500 | O85: Standard rated | P85: =IFERROR(INDEX('Master Values'!$D$52:$D$54,MATCH('Tariff template'!O85,'Master Values'!$C$53:$C$55,0)),"") -> 0.05 | Q85: 45047 | R85: 45657
A86: Import | B86: SERVICE - Monitoring charge | C86: =IFERROR(INDEX('Master Values'!$G$7:$G$36,MATCH('Tariff template'!B86,master_choices,0)),"") -> Container monitoring / inspection charge (e.g. reefer/ hazardous) | E86: CMFF3 | F86: Per Container | G86: 40 | H86: Misc | I86: Single | M86: AED | N86: 180 | O86: Standard rated | P86: =IFERROR(INDEX('Master Values'!$D$52:$D$54,MATCH('Tariff template'!O86,'Master Values'!$C$53:$C$55,0)),"") -> 0.05 | Q86: 45047 | R86: 45657
A87: Import | B87: SERVICE - Monitoring charge | C87: =IFERROR(INDEX('Master Values'!$G$7:$G$36,MATCH('Tariff template'!B87,master_choices,0)),"") -> Container monitoring / inspection charge (e.g. reefer/ hazardous) | E87: CMFF4 | F87: Per Container | G87: 40 | H87: Misc | I87: Multiple | J87: Per Container | K87: 1 | L87: 999999 | M87: AED | N87: 180 | O87: Standard rated | P87: =IFERROR(INDEX('Master Values'!$D$52:$D$54,MATCH('Tariff template'!O87,'Master Values'!$C$53:$C$55,0)),"") -> 0.05 | Q87: 45047 | R87: 45657
A88: Import | B88: BOL - Switch B/L fee | C88: =IFERROR(INDEX('Master Values'!$G$7:$G$36,MATCH('Tariff template'!B88,master_choices,0)),"") -> Switch Bill of Lading charge | E88: SWITCHF1 | F88: Per Document | G88: All - Any container size | H88: Misc | I88: Single | M88: USD | N88: 350 | O88: Zero rated | P88: =IFERROR(INDEX('Master Values'!$D$52:$D$54,MATCH('Tariff template'!O88,'Master Values'!$C$53:$C$55,0)),"") -> 0 | Q88: 45047 | R88: 45657
A89: Import | B89: BOL - Switch B/L fee | C89: =IFERROR(INDEX('Master Values'!$G$7:$G$36,MATCH('Tariff template'!B89,master_choices,0)),"") -> Switch Bill of Lading charge | E89: SWITCHF2 | F89: Per Document | G89: All - Any container size | H89: Misc | I89: Multiple | J89: Per Document | K89: 1 | L89: 999999 | M89: USD | N89: 350 | O89: Zero rated | P89: =IFERROR(INDEX('Master Values'!$D$52:$D$54,MATCH('Tariff template'!O89,'Master Values'!$C$53:$C$55,0)),"") -> 0 | Q89: 45047 | R89: 45657
A90: Import | B90: BOL - B/L amendment fee | C90: =IFERROR(INDEX('Master Values'!$G$7:$G$36,MATCH('Tariff template'!B90,master_choices,0)),"") -> Bill of Lading amendment charge | E90: AMENDF1 | F90: Per Document | G90: All - Any container size | H90: Misc | I90: Single | M90: USD | N90: 100 | O90: Standard rated | P90: =IFERROR(INDEX('Master Values'!$D$52:$D$54,MATCH('Tariff template'!O90,'Master Values'!$C$53:$C$55,0)),"") -> 0.05 | Q90: 45047 | R90: 45657
A91: Import | B91: BOL - B/L amendment fee | C91: =IFERROR(INDEX('Master Values'!$G$7:$G$36,MATCH('Tariff template'!B91,master_choices,0)),"") -> Bill of Lading amendment charge | E91: AMENDF2 | F91: Per Document | G91: All - Any container size | H91: Misc | I91: Multiple | J91: Per Document | K91: 1 | L91: 999999 | M91: USD | N91: 100 | O91: Standard rated | P91: =IFERROR(INDEX('Master Values'!$D$52:$D$54,MATCH('Tariff template'!O91,'Master Values'!$C$53:$C$55,0)),"") -> 0.05 | Q91: 45047 | R91: 45657
A92: Import | B92: CUSTOMS - Customs clearance/ brokerage fees | C92: =IFERROR(INDEX('Master Values'!$G$7:$G$36,MATCH('Tariff template'!B92,master_choices,0)),"") -> Customs clearance/ brokerage fees | E92: CLRF1 | F92: Per Document | G92: All - Any container size | H92: Misc | I92: Single | M92: AED | N92: 250 | O92: Standard rated | P92: =IFERROR(INDEX('Master Values'!$D$52:$D$54,MATCH('Tariff template'!O92,'Master Values'!$C$53:$C$55,0)),"") -> 0.05 | Q92: 45047 | R92: 45657
A93: Import | B93: CUSTOMS - Customs clearance/ brokerage fees | C93: =IFERROR(INDEX('Master Values'!$G$7:$G$36,MATCH('Tariff template'!B93,master_choices,0)),"") -> Customs clearance/ brokerage fees | E93: CLRF2 | F93: Per Document | G93: All - Any container size | H93: Misc | I93: Multiple | J93: Per Document | K93: 1 | L93: 999999 | M93: AED | N93: 500 | O93: Standard rated | P93: =IFERROR(INDEX('Master Values'!$D$52:$D$54,MATCH('Tariff template'!O93,'Master Values'!$C$53:$C$55,0)),"") -> 0.05 | Q93: 45047 | R93: 45657
A94: Import | B94: ADMIN - Miscellaneous (Any documentation fee e.g. manual doc fee / certificate issuance fee / amendments fee etc.) | C94: =IFERROR(INDEX('Master Values'!$G$7:$G$36,MATCH('Tariff template'!B94,master_choices,0)),"") -> Mandatory manual description: Insert in column "D" | D94: Dubai Trade processing charges | E94: DPFF1 | F94: Per Document | G94: All - Any container size | H94: Misc | I94: Single | M94: AED | N94: 55 | O94: Standard rated | P94: =IFERROR(INDEX('Master Values'!$D$52:$D$54,MATCH('Tariff template'!O94,'Master Values'!$C$53:$C$55,0)),"") -> 0.05 | Q94: 45047 | R94: 45657
A95: Import | B95: ADMIN - Miscellaneous (Any documentation fee e.g. manual doc fee / certificate issuance fee / amendments fee etc.) | C95: =IFERROR(INDEX('Master Values'!$G$7:$G$36,MATCH('Tariff template'!B95,master_choices,0)),"") -> Mandatory manual description: Insert in column "D" | D95: Dubai Trade processing charges | E95: DPFF2 | F95: Per Document | G95: All - Any container size | H95: Misc | I95: Multiple | J95: Per Document | K95: 1 | L95: 999999 | M95: AED | N95: 500 | O95: Standard rated | P95: =IFERROR(INDEX('Master Values'!$D$52:$D$54,MATCH('Tariff template'!O95,'Master Values'!$C$53:$C$55,0)),"") -> 0.05 | Q95: 45047 | R95: 45657
A96: Import | B96: ADMIN - Miscellaneous (Any documentation fee e.g. manual doc fee / certificate issuance fee / amendments fee etc.) | C96: =IFERROR(INDEX('Master Values'!$G$7:$G$36,MATCH('Tariff template'!B96,master_choices,0)),"") -> Mandatory manual description: Insert in column "D" | D96: Serviceg Fee for inspection with Dubai Customs | E96: INSPF1A | F96: Per Document | G96: All - Any container size | H96: Misc | I96: Single | M96: AED | N96: 250 | O96: Standard rated | P96: =IFERROR(INDEX('Master Values'!$D$52:$D$54,MATCH('Tariff template'!O96,'Master Values'!$C$53:$C$55,0)),"") -> 0.05 | Q96: 45047 | R96: 45657
A97: Import | B97: ADMIN - Miscellaneous (Any documentation fee e.g. manual doc fee / certificate issuance fee / amendments fee etc.) | C97: =IFERROR(INDEX('Master Values'!$G$7:$G$36,MATCH('Tariff template'!B97,master_choices,0)),"") -> Mandatory manual description: Insert in column "D" | D97: Serviceg Fee for inspection with Dubai Customs | E97: INSPF2BA | F97: Per Document | G97: All - Any container size | H97: Misc | I97: Multiple | J97: Per Document | K97: 1 | L97: 999999 | M97: AED | N97: 500 | O97: Standard rated | P97: =IFERROR(INDEX('Master Values'!$D$52:$D$54,MATCH('Tariff template'!O97,'Master Values'!$C$53:$C$55,0)),"") -> 0.05 | Q97: 45047 | R97: 45657
A98: Import | B98: DC - Dubai Chamber of Commerce attestation & certifications | C98: =IFERROR(INDEX('Master Values'!$G$7:$G$36,MATCH('Tariff template'!B98,master_choices,0)),"") -> Dubai Chamber of Commerce attestation & certifications | E98: CERTOF1 | F98: Per Document | G98: All - Any container size | H98: Misc | I98: Single | M98: AED | N98: 200 | O98: Standard rated | P98: =IFERROR(INDEX('Master Values'!$D$52:$D$54,MATCH('Tariff template'!O98,'Master Values'!$C$53:$C$55,0)),"") -> 0.05 | Q98: 45047 | R98: 45657
A99: Import | B99: DC - Dubai Chamber of Commerce attestation & certifications | C99: =IFERROR(INDEX('Master Values'!$G$7:$G$36,MATCH('Tariff template'!B99,master_choices,0)),"") -> Dubai Chamber of Commerce attestation & certifications | E99: CERTOF2 | F99: Per Document | G99: All - Any container size | H99: Misc | I99: Multiple | J99: Per Document | K99: 1 | L99: 999999 | M99: AED | N99: 500 | O99: Standard rated | P99: =IFERROR(INDEX('Master Values'!$D$52:$D$54,MATCH('Tariff template'!O99,'Master Values'!$C$53:$C$55,0)),"") -> 0.05 | Q99: 45047 | R99: 45657
A100: Import | B100: DM - Dubai Municipality Permits and Inspections | C100: =IFERROR(INDEX('Master Values'!$G$7:$G$36,MATCH('Tariff template'!B100,master_choices,0)),"") -> Dubai Municipality Permits and Inspections | E100: INSPF1C | F100: Per Document | G100: All - Any container size | H100: Misc | I100: Single | M100: AED | N100: 200 | O100: Standard rated | P100: =IFERROR(INDEX('Master Values'!$D$52:$D$54,MATCH('Tariff template'!O100,'Master Values'!$C$53:$C$55,0)),"") -> 0.05 | Q100: 45047 | R100: 45657
...

Sheet Master Values
B5: Trade Type | F5: Tariff (incl. Misc) + description | K5: UOM mapping to Tariff Category | AP5: SLAB mapping to UOM | AY5: Cargo type mapping to UOM | BH5: Container size mapping to UOM | BO5: Slab from/to mapping to Slab
B6: Trade Type code | C6: Trade Type Description | F6: Tariff | G6: Tariff description | H6: UOM | K6: {=TRANSPOSE(F7:F36)} -> ADMIN - Miscellaneous (Any documentation fee e.g. manual doc fee / certificate issuance fee / amendments fee etc.) | L6: BOL - B/L amendment fee | M6: BOL - B/L fee | N6: BOL - Miscellaneous | O6: BOL - Switch B/L fee | P6: CUSTOMS - Customs clearance/ brokerage fees | Q6: CUSTOMS - Customs inspection fees | R6: DC - Dubai Chamber of Commerce attestation & certifications | S6: DM - Dubai Municipality Permits and Inspections | T6: DM - Dubai Municipality Product Registration Fees | U6: DO - D/O fee | V6: DO - Miscellaneous | W6: LD - Demurrage/Detention charge | X6: MISC - Any sea container charge not within standardized tariff categories | Y6: MOCCAE - MOCCAE clearances | Z6: MOH - Ministry of Health MOH Permit and Approvals | AA6: SEAL - Seal charge | AB6: SERVICE - Miscellaneous | AC6: SERVICE - Monitoring charge | AD6: SERVICE - Overweight surcharge | AE6: SERVICE - Use of special gear surcharge | AF6: SERVICE - Weighment at port charge | AG6: SHIFT - Inter terminal transfer charge | AH6: SHIFT - Lift on – lift off charge (TLUC) | AI6: SHIFT - Miscellaneous | AJ6: LCL Handling | AK6: LCL Storage Covered | AL6: LCL Miscellaneous Charges | AM6: LCL Storage Open | AN6: THC - Terminal handling charge | AP6: Per Container | AQ6: Per Document | AR6: Per Container/Day | AS6: Per Freight Ton | AT6: =$C$24 -> Per Freight Ton/Day | AU6: Per Seal | AY6: Per Container | AZ6: Per Document | BA6: Per Container/Day | BB6: Per Freight Ton | BC6: =$C$24 -> Per Freight Ton/Day | BD6: Per Seal | BH6: Per Container | BI6: Per Document | BJ6: Per Container/Day | BK6: Per Freight Ton | BL6: =$C$24 -> Per Freight Ton/Day | BM6: Per Seal | BO6: Single | BP6: Multiple
B7: I | C7: Import | F7: ADMIN - Miscellaneous (Any documentation fee e.g. manual doc fee / certificate issuance fee / amendments fee etc.) | G7: Mandatory manual description: Insert in column "D" | H7: All UOM options | K7: =$C$19 -> Per Container | L7: =$C$21 -> Per Document | M7: =$C$21 -> Per Document | N7: =$C$21 -> Per Document | O7: =$C$21 -> Per Document | P7: =$C$21 -> Per Document | Q7: =$C$19 -> Per Container | R7: =$C$21 -> Per Document | S7: =$C$19 -> Per Container | T7: =$C$19 -> Per Container | U7: =$C$21 -> Per Document | V7: =$C$21 -> Per Document | W7: =$C$20 -> Per Container/Day | X7: =$C$19 -> Per Container | Y7: =$C$21 -> Per Document | Z7: =$C$21 -> Per Document | AA7: =$C$22 -> Per Seal | AB7: =$C$19 -> Per Container | AC7: =$C$19 -> Per Container | AD7: =$C$19 -> Per Container | AE7: =$C$19 -> Per Container | AF7: =$C$19 -> Per Container | AG7: =$C$19 -> Per Container | AH7: =$C$19 -> Per Container | AI7: =$C$19 -> Per Container | AJ7: =$C$23 -> Per Freight Ton | AK7: =$C$24 -> Per Freight Ton/Day | AL7: =$C$19 -> Per Container | AM7: =$C$24 -> Per Freight Ton/Day | AN7: =$C$19 -> Per Container | AP7: Single | AQ7: Single | AR7: Single | AS7: Single | AT7: Single | AU7: Single | AY7: =$C$37 -> Dry - general/FAK | AZ7: =$C$37 -> Dry - general/FAK | BA7: =$C$37 -> Dry - general/FAK | BB7: =$C$37 -> Dry - general/FAK | BC7: =$C$37 -> Dry - general/FAK | BD7: =$C$37 -> Dry - general/FAK | BH7: =C28 -> 20 | BI7: =BH7 -> 20 | BJ7: =$C$28 -> 20 | BK7: =$C$28 -> 20 | BL7: =$C$28 -> 20 | BM7: =$C$28 -> 20 | BP7: 1
B8: E | C8: Export | F8: BOL - B/L amendment fee | G8: Bill of Lading amendment charge | H8: =C$21 -> Per Document | K8: =$C$21 -> Per Document | Q8: =$C$21 -> Per Document | S8: =$C$21 -> Per Document | T8: =$C$21 -> Per Document | X8: =$C$21 -> Per Document | AB8: =$C$20 -> Per Container/Day | AC8: =$C$20 -> Per Container/Day | AL8: =$C$21 -> Per Document | AP8: Multiple | AQ8: Multiple | AR8: Multiple | AS8: Multiple | AT8: Multiple | AU8: Multiple | AY8: =$C$38 -> Reefer | AZ8: =$C$38 -> Reefer | BA8: =$C$38 -> Reefer | BB8: =$C$38 -> Reefer | BC8: =$C$38 -> Reefer | BD8: =$C$38 -> Reefer | BH8: =C29 -> 40 | BI8: =BH8 -> 40 | BJ8: =$C$29 -> 40 | BK8: =$C$29 -> 40 | BL8: =$C$29 -> 40 | BM8: =$C$29 -> 40 | BP8: 2
F9: BOL - B/L fee | G9: Bill of Lading issuance charge | H9: =C$21 -> Per Document | K9: =$C$20 -> Per Container/Day | Q9: =$C$20 -> Per Container/Day | S9: =$C$20 -> Per Container/Day | T9: =$C$20 -> Per Container/Day | X9: =$C$20 -> Per Container/Day | AB9: =$C$23 -> Per Freight Ton | AL9: =$C$20 -> Per Container/Day | AY9: =$C$39 -> Hazardous | AZ9: =$C$39 -> Hazardous | BA9: =$C$39 -> Hazardous | BB9: =$C$39 -> Hazardous | BC9: =$C$39 -> Hazardous | BD9: =$C$39 -> Hazardous | BH9: =C30 -> 45 | BI9: =BH9 -> 45 | BJ9: =$C$30 -> 45 | BK9: =$C$30 -> 45 | BL9: =$C$30 -> 45 | BM9: =$C$30 -> 45 | BP9: 3
F10: BOL - Miscellaneous | G10: Mandatory manual description: Insert in column "D" | H10: =C$21 -> Per Document | K10: =$C$22 -> Per Seal | Q10: =$C$22 -> Per Seal | S10: =$C$22 -> Per Seal | T10: =$C$22 -> Per Seal | X10: =$C$22 -> Per Seal | AB10: =$C$24 -> Per Freight Ton/Day | AL10: =$C$23 -> Per Freight Ton | AY10: =$C$40 -> Out-of-gauge | AZ10: =$C$40 -> Out-of-gauge | BA10: =$C$40 -> Out-of-gauge | BB10: =$C$40 -> Out-of-gauge | BC10: =$C$40 -> Out-of-gauge | BD10: =$C$40 -> Out-of-gauge | BH10: =C31 -> N/A | BI10: =BH10 -> N/A | BJ10: =$C$31 -> N/A | BK10: =$C$31 -> N/A | BL10: =$C$31 -> N/A | BM10: =$C$31 -> N/A | BP10: 4
B11: Tariff Slabs | F11: BOL - Switch B/L fee | G11: Switch Bill of Lading charge | H11: =C$21 -> Per Document | K11: =$C$23 -> Per Freight Ton | Q11: =$C$23 -> Per Freight Ton | S11: =$C$23 -> Per Freight Ton | T11: =$C$23 -> Per Freight Ton | X11: =$C$23 -> Per Freight Ton | AL11: =$C$24 -> Per Freight Ton/Day | AY11: =$C$41 -> Misc | AZ11: =$C$41 -> Misc | BA11: =$C$41 -> Misc | BB11: =$C$41 -> Misc | BC11: =$C$41 -> Misc | BD11: =$C$41 -> Misc | BH11: =C32 -> All - Any container size | BI11: =BH11 -> All - Any container size | BJ11: =$C$32 -> All - Any container size | BK11: =$C$32 -> All - Any container size | BL11: =$C$32 -> All - Any container size | BM11: =$C$32 -> All - Any container size | BP11: 5
B12: Tariff Slab Code | C12: Tariff Slab Description | F12: CUSTOMS - Customs clearance/ brokerage fees | G12: Customs clearance/ brokerage fees | H12: =C$21 -> Per Document | K12: =$C$24 -> Per Freight Ton/Day | Q12: =$C$24 -> Per Freight Ton/Day | S12: =$C$24 -> Per Freight Ton/Day | T12: =$C$24 -> Per Freight Ton/Day | X12: =$C$24 -> Per Freight Ton/Day | BP12: 6
B13: S | C13: Single | F13: CUSTOMS - Customs inspection fees | G13: Customs inspection fees (Import & Export) | H13: All UOM options | BP13: 7
B14: M | C14: Multiple | F14: DC - Dubai Chamber of Commerce attestation & certifications | G14: Dubai Chamber of Commerce attestation & certifications | H14: =C$21 -> Per Document | BP14: 8
F15: DM - Dubai Municipality Permits and Inspections | G15: Dubai Municipality Permits and Inspections | H15: All UOM options | BP15: 9
F16: DM - Dubai Municipality Product Registration Fees | G16: Dubai Municipality Product Registration Fees (Montaji) | H16: All UOM options | BP16: 10
B17: UOM | F17: DO - D/O fee | G17: Delivery Order issuance Charge | H17: =C$21 -> Per Document | BP17: 11
B18: UOM Code | C18: UOM Description | F18: DO - Miscellaneous | G18: Mandatory manual description: Insert in column "D" | H18: =C$21 -> Per Document | BP18: 12
B19: PC | C19: Per Container | F19: LD - Demurrage/Detention charge | G19: Container Line Demurrage / Detention charge | H19: =C$20 -> Per Container/Day | BP19: 13
B20: PCD | C20: Per Container/Day | F20: MISC - Any sea container charge not within standardized tariff categories | G20: Mandatory manual description: Insert in column "D" | H20: All UOM options | BP20: 14
B21: PD | C21: Per Document | F21: MOCCAE - MOCCAE clearances | G21: MOCCAE clearances (Ministry of Climate Change and Environment) | H21: =C$21 -> Per Document | BP21: 15
B22: PS | C22: Per Seal | F22: MOH - Ministry of Health MOH Permit and Approvals | G22: Ministry of Health MOH Permit and Approvals | H22: =C$21 -> Per Document | BP22: 16
B23: PFRT | C23: Per Freight Ton | F23: SEAL - Seal charge | G23: Container Seal charge | H23: =$C$22 -> Per Seal | BP23: 17
B24: PFRTD | C24: Per Freight Ton/Day | F24: SERVICE - Miscellaneous | G24: Mandatory manual description: Insert in column "D" | H24: =$C$19&"; "&$C$20&"; "&$C$23&"; "&$C$24 -> Per Container; Per Container/Day; Per Freight Ton; Per Freight Ton/Day | BP24: 18
F25: SERVICE - Monitoring charge | G25: Container monitoring / inspection charge (e.g. reefer/ hazardous) | H25: =$C$19&"; "&$C$20 -> Per Container; Per Container/Day | BP25: 19
B26: Container size | F26: SERVICE - Overweight surcharge | G26: Container overweight surcharge | H26: =C$19 -> Per Container | BP26: 20
B27: UOM Code | C27: UOM Description | F27: SERVICE - Use of special gear surcharge | G27: Special gear surcharge | H27: =$C$19 -> Per Container | BP27: 21
B28: 20_ftr | C28: 20 | F28: SERVICE - Weighment at port charge | G28: Container weighment charge | H28: =C$19 -> Per Container | BP28: 22
B29: 40_ftr | C29: 40 | F29: SHIFT - Inter terminal transfer charge | G29: Charge for Inter-Terminal transfer of Containers | H29: =$C$19 -> Per Container | BP29: 23
B30: 45_ftr | C30: 45 | F30: SHIFT - Lift on – lift off charge (TLUC) | G30: Charge for Loading and Unloading containers To / From Trucks within Port | H30: =C$19 -> Per Container | BP30: 24
B31: NA | C31: N/A | F31: SHIFT - Miscellaneous | G31: Mandatory manual description: Insert in column "D" | H31: =$C$19 -> Per Container | BP31: 25
B32: All | C32: All - Any container size | F32: LCL Handling | G32: LCL Cargo Handling Charge | H32: =C$23 -> Per Freight Ton | BP32: 26
F33: LCL Storage Covered | G33: LCL Cargo Covered storage charge | H33: =C$24 -> Per Freight Ton/Day | BP33: 27
F34: LCL Miscellaneous Charges | G34: Mandatory manual description: Insert in column "D" | H34: =$C$19&"; "&$C$20&"; "&$C$21&"; "&$C$23&"; "&$C$24 -> Per Container; Per Container/Day; Per Document; Per Freight Ton; Per Freight Ton/Day | BP34: 28
B35: Cargo type | F35: LCL Storage Open | G35: LCL Cargo Open Storage charge | H35: =C$24 -> Per Freight Ton/Day | BP35: 29
B36: UOM Code | C36: UOM Description | F36: THC - Terminal handling charge | G36: Terminal Handling Charge at Port | H36: =C$19 -> Per Container | BP36: 30
B37: DRY | C37: Dry - general/FAK | BP37: 31
B38: REEFER | C38: Reefer | BP38: 32
B39: HAZ | C39: Hazardous | BP39: 33
B40: OOG | C40: Out-of-gauge | BP40: 34
B41: OTHERS | C41: Misc | BP41: 35
BP42: 36
BP43: 37
BP44: 38
B45: Currency types | BP45: 39
B46: Tariff Slab Code | C46: Tariff Slab Description | BP46: 40
B47: AED | C47: AED | BP47: 41
B48: USD | C48: USD | BP48: 42
BP49: 43
BP50: 44
B51: VAT types | D51: Percentage | BP51: 45
B52: UOM Code | C52: UOM Description | D52: 0 | BP52: 46
B53: EXEMPT | C53: Exempted | D53: 0 | BP53: 47
B54: ZERO | C54: Zero rated | D54: 0.05 | BP54: 48
B55: STD | C55: Standard rated | BP55: 49
BP56: 50
BP57: 51
B58: Slab variable | D58: UOM Description Single | BP58: 52
B59: Slab variable code | C59: UOM Description Multiple | BP59: 53
B60: PC_SLAB | C60: Per Container | BP60: 54
B61: PDAY | C61: Per Day | BP61: 55
B62: PDAY | C62: Per Document | BP62: 56
B63: PS | C63: Per Seal | BP63: 62
B64: PFRT_SLAB | C64: Per Freight Ton | BP64: 63
BP65: 64
BP66: 65
BP67: 66
BP68: 67
BP69: 68
BP70: 69
BP71: 70
BP72: 71
BP73: 72
BP74: 73
BP75: 74
BP76: 75
... BP1002: 999999
