Workbook
Name cntr_dd_col: INDEX(cntr_tbl_choices,,cntr_dd_col_num)
Name cntr_dd_col_num: MATCH('Tariff template'!$F1,cntr_dd_regions,0)
Name cntr_dd_regions: 'Master Values'!$BH$6:$BM$6
Name cntr_dd_reps: INDEX(cntr_tbl_choices,,MATCH('Tariff template'!$F1048556,cntr_dd_regions,0))
Name cntr_dd_reps2: INDEX(cntr_tbl_choices,1,cntr_dd_col_num) : INDEX(cntr_tbl_choices,COUNTA(cntr_dd_col),cntr_dd_col_num)
Name cntr_tbl_choices: 'Master Values'!$BH$7:$BM$11
Name dd_col: INDEX(tbl_choices,,dd_col_num)
Name dd_col_num: MATCH('Tariff template'!$B1,dd_regions,0)
Name dd_regions: 'Master Values'!$K$6:$AN$6
Name dd_reps: INDEX(tbl_choices,,MATCH('Tariff template'!$B1,dd_regions,0))
Name dd_reps2: INDEX(tbl_choices,1,dd_col_num) : INDEX(tbl_choices,COUNTA(dd_col),dd_col_num)
Name from_dd_col: INDEX(from_tbl_choices,,from_dd_col_num)
Name from_dd_col_num: MATCH('Tariff template'!$I1,from_dd_regions,0)
Name from_dd_regions: 'Master Values'!$BO$6:$BP$6
Name from_dd_reps: INDEX(from_tbl_choices,,MATCH('Tariff template'!$I1,from_dd_regions,0))
Name from_dd_reps2: INDEX(from_tbl_choices,1,from_dd_col_num) : INDEX(from_tbl_choices,COUNTA(from_dd_col),from_dd_col_num)
Name from_tbl_choices: 'Master Values'!$BO$7:$BP$1003
Name master_choices: 'Master Values'!$F$7:$F$36
Name slab_dd_col: INDEX(slab_tbl_choices,,slab_dd_col_num)
Name slab_dd_col_num: MATCH('Tariff template'!$F1,slab_dd_regions,0)
Name slab_dd_regions: 'Master Values'!$AP$6:$AU$6
Name slab_dd_reps: INDEX(slab_tbl_choices,,MATCH('Tariff template'!$F1,slab_dd_regions,0))
Name slab_dd_reps2: INDEX(slab_tbl_choices,1,slab_dd_col_num) : INDEX(slab_tbl_choices,COUNTA(slab_dd_col),slab_dd_col_num)
Name slab_tbl_choices: 'Master Values'!$AP$7:$AU$8
Name tbl_choices: 'Master Values'!$K$7:$AN$12
Name type_dd_col: INDEX(type_tbl_choices,,type_dd_col_num)
Name type_dd_col_num: MATCH('Tariff template'!$F1,type_dd_regions,0)
Name type_dd_regions: 'Master Values'!$AY$6:$BD$6
Name type_dd_reps: INDEX(type_tbl_choices,,MATCH('Tariff template'!$F1,type_dd_regions,0))
Name type_dd_reps2: INDEX(type_tbl_choices,1,type_dd_col_num) : INDEX(type_tbl_choices,COUNTA(type_dd_col),type_dd_col_num)
Name type_tbl_choices: 'Master Values'!$AY$7:$BD$11

Sheet Tariff template
A1: Mandatory | B1: Mandatory | C1: Auto-generated | D1: Mandatory if highlighted in column 'C' | E1: Mandatory | F1: Mandatory | G1: Mandatory | H1: Mandatory | I1: Mandatory | J1: Fill out only if column 'I' = Multiple | K1: Fill out only if column 'I' = Multiple | L1: Fill out only if column 'I' = Multiple | M1: Mandatory | N1: Mandatory (Numeric value) | O1: Mandatory | P1: Auto-generated | Q1: Mandatory | R1: Optional | S1: Optional
A2: Trade Type | B2: Tariff Category | C2: Tariff Description (Standardized) | D2: Tariff Description (Non-standardized/Misc) | E2: Tariff Code | F2: UOM | G2: Contr Size | H2: Cargo Type | I2: Slabs Single/Multiple | J2: Slab variable description | K2: Slab From | L2: Slab To | M2: Currency | N2: Rate | O2: VAT Applicable | P2: VAT %age | Q2: Valid From | R2: Valid To | S2: Remarks (free text)
A3: Import | B3: THC - Terminal handling charge | C3: =IFERROR(INDEX('Master Values'!$G$7:$G$36,MATCH('Tariff template'!B3,master_choices,0)),"") -> Terminal Handling Charge at Port | E3: DESTHCF1 | F3: Per Container | G3: 20 | H3: Dry - general/FAK | I3: Single | M3: AED | N3: 780 | O3: Zero rated | P3: =IFERROR(INDEX('Master Values'!$D$52:$D$54,MATCH('Tariff template'!O3,'Master Values'!$C$53:$C$55,0)),"") -> 0 | Q3: 45047 | R3: 45657
A4: Import | B4: THC - Terminal handling charge | C4: =IFERROR(INDEX('Master Values'!$G$7:$G$36,MATCH('Tariff template'!B4,master_choices,0)),"") -> Terminal Handling Charge at Port | E4: DESTHCF2 | F4: Per Container | G4: 20 | H4: Dry - general/FAK | I4: Multiple | J4: Per Container | K4: 1 | L4: 20 | M4: AED | N4: 780 | O4: Zero rated | P4: =IFERROR(INDEX('Master Values'!$D$52:$D$54,MATCH('Tariff template'!O4,'Master Values'!$C$53:$C$55,0)),"") -> 0 | Q4: 45047 | R4: 45657
A5: Import | B5: THC - Terminal handling charge | C5: =IFERROR(INDEX('Master Values'!$G$7:$G$36,MATCH('Tariff template'!B5,master_choices,0)),"") -> Terminal Handling Charge at Port | E5: DESTHCF2 | F5: Per Container | G5: 20 | H5: Dry - general/FAK | I5: Multiple | J5: Per Container | K5: 21 | L5: 999999 | M5: AED | N5: 780 | O5: Zero rated | P5: =IFERROR(INDEX('Master Values'!$D$52:$D$54,MATCH('Tariff template'!O5,'Master Values'!$C$53:$C$55,0)),"") -> 0 | Q5: 45047 | R5: 45657
A6: Import | B6: THC - Terminal handling charge | C6: =IFERROR(INDEX('Master Values'!$G$7:$G$36,MATCH('Tariff template'!B6,master_choices,0)),"") -> Terminal Handling Charge at Port | E6: DESTHCF4 | F6: Per Container | G6: 20 | H6: Reefer | I6: Single | M6: AED | N6: 780 | O6: Zero rated | P6: =IFERROR(INDEX('Master Values'!$D$52:$D$54,MATCH('Tariff template'!O6,'Master Values'!$C$53:$C$55,0)),"") -> 0 | Q6: 45047 | R6: 45657
A7: Import | B7: THC - Terminal handling charge | C7: =IFERROR(INDEX('Master Values'!$G$7:$G$36,MATCH('Tariff template'!B7,master_choices,0)),"") -> Terminal Handling Charge at Port | E7: DESTHCF5 | F7: Per Container | G7: 20 | H7: Reefer | I7: Multiple | J7: Per Container | K7: 1 | L7: 20 | M7: AED | N7: 780 | O7: Zero rated | P7: =IFERROR(INDEX('Master Values'!$D$52:$D$54,MATCH('Tariff template'!O7,'Master Values'!$C$53:$C$55,0)),"") -> 0 | Q7: 45047 | R7: 45657
A8: Import | B8: THC - Terminal handling charge | C8: =IFERROR(INDEX('Master Values'!$G$7:$G$36,MATCH('Tariff template'!B8,master_choices,0)),"") -> Terminal Handling Charge at Port | E8: DESTHCF5 | F8: Per Container | G8: 20 | H8: Reefer | I8: Multiple | J8: Per Container | K8: 21 | L8: 999999 | M8: AED | N8: 780 | O8: Zero rated | P8: =IFERROR(INDEX('Master Values'!$D$52:$D$54,MATCH('Tariff template'!O8,'Master Values'!$C$53:$C$55,0)),"") -> 0 | Q8: 45047 | R8: 45657
A9: Import | B9: THC - Terminal handling charge | C9: =IFERROR(INDEX('Master Values'!$G$7:$G$36,MATCH('Tariff template'!B9,master_choices,0)),"") -> Terminal Handling Charge at Port | E9: DESTHCF7 | F9: Per Container | G9: 20 | H9: Hazardous | I9: Single | M9: AED | N9: 1355 | O9: Zero rated | P9: =IFERROR(INDEX('Master Values'!$D$52:$D$54,MATCH('Tariff template'!O9,'Master Values'!$C$53:$C$55,0)),"") -> 0 | Q9: 45047 | R9: 45657
A10: Import | B10: THC - Terminal handling charge | C10: =IFERROR(INDEX('Master Values'!$G$7:$G$36,MATCH('Tariff template'!B10,master_choices,0)),"") -> Terminal Handling Charge at Port | E10: DESTHCF8 | F10: Per Container | G10: 20 | H10: Hazardous | I10: Multiple | J10: Per Container | K10: 1 | L10: 20 | M10: AED | N10: 1355 | O10: Zero rated | P10: =IFERROR(INDEX('Master Values'!$D$52:$D$54,MATCH('Tariff template'!O10,'Master Values'!$C$53:$C$55,0)),"") -> 0 | Q10: 45047 | R10: 45657
A11: Import | B11: THC - Terminal handling charge | C11: =IFERROR(INDEX('Master Values'!$G$7:$G$36,MATCH('Tariff template'!B11,master_choices,0)),"") -> Terminal Handling Charge at Port | E11: DESTHCF8 | F11: Per Container | G11: 20 | H11: Hazardous | I11: Multiple | J11: Per Container | K11: 21 | L11: 999999 | M11: AED | N11: 1355 | O11: Zero rated | P11: =IFERROR(INDEX('Master Values'!$D$52:$D$54,MATCH('Tariff template'!O11,'Master Values'!$C$53:$C$55,0)),"") -> 0 | Q11: 45047 | R11: 45657
A12: Import | B12: THC - Terminal handling charge | C12: =IFERROR(INDEX('Master Values'!$G$7:$G$36,MATCH('Tariff template'!B12,master_choices,0)),"") -> Terminal Handling Charge at Port | E12: DESTHCF10 | F12: Per Container | G12: 20 | H12: Out-of-gauge | I12: Single | M12: AED | N12: 780 | O12: Zero rated | P12: =IFERROR(INDEX('Master Values'!$D$52:$D$54,MATCH('Tariff template'!O12,'Master Values'!$C$53:$C$55,0)),"") -> 0 | Q12: 45047 | R12: 45657
A13: Import | B13: THC - Terminal handling charge | C13: =IFERROR(INDEX('Master Values'!$G$7:$G$36,MATCH('Tariff template'!B13,master_choices,0)),"") -> Terminal Handling Charge at Port | E13: DESTHCF11 | F13: Per Container | G13: 20 | H13: Out-of-gauge | I13: Multiple | J13: Per Container | K13: 1 | L13: 20 | M13: AED | N13: 780 | O13: Zero rated | P13: =IFERROR(INDEX('Master Values'!$D$52:$D$54,MATCH('Tariff template'!O13,'Master Values'!$C$53:$C$55,0)),"") -> 0 | Q13: 45047 | R13: 45657
A14: Import | B14: THC - Terminal handling charge | C14: =IFERROR(INDEX('Master Values'!$G$7:$G$36,MATCH('Tariff template'!B14,master_choices,0)),"") -> Terminal Handling Charge at Port | E14: DESTHCF11 | F14: Per Container | G14: 20 | H14: Out-of-gauge | I14: Multiple | J14: Per Container | K14: 21 | L14: 999999 | M14: AED | N14: 780 | O14: Zero rated | P14: =IFERROR(INDEX('Master Values'!$D$52:$D$54,MATCH('Tariff template'!O14,'Master Values'!$C$53:$C$55,0)),"") -> 0 | Q14: 45047 | R14: 45657
A15: Import | B15: THC - Terminal handling charge | C15: =IFERROR(INDEX('Master Values'!$G$7:$G$36,MATCH('Tariff template'!B15,master_choices,0)),"") -> Terminal Handling Charge at Port | E15: DESTHCF13 | F15: Per Container | G15: 20 | H15: Misc | I15: Single | M15: AED | N15: 780 | O15: Zero rated | P15: =IFERROR(INDEX('Master Values'!$D$52:$D$54,MATCH('Tariff template'!O15,'Master Values'!$C$53:$C$55,0)),"") -> 0 | Q15: 45047 | R15: 45657
A16: Import | B16: THC - Terminal handling charge | C16: =IFERROR(INDEX('Master Values'!$G$7:$G$36,MATCH('Tariff template'!B16,master_choices,0)),"") -> Terminal Handling Charge at Port | E16: DESTHCF14 | F16: Per Container | G16: 20 | H16: Misc | I16: Multiple | J16: Per Container | K16: 1 | L16: 20 | M16: AED | N16: 780 | O16: Zero rated | P16: =IFERROR(INDEX('Master Values'!$D$52:$D$54,MATCH('Tariff template'!O16,'Master Values'!$C$53:$C$55,0)),"") -> 0 | Q16: 45047 | R16: 45657
A17: Import | B17: THC - Terminal handling charge | C17: =IFERROR(INDEX('Master Values'!$G$7:$G$36,MATCH('Tariff template'!B17,master_choices,0)),"") -> Terminal Handling Charge at Port | E17: DESTHCF14 | F17: Per Container | G17: 20 | H17: Misc | I17: Multiple | J17: Per Container | K17: 21 | L17: 999999 | M17: AED | N17: 780 | O17: Zero rated | P17: =IFERROR(INDEX('Master Values'!$D$52:$D$54,MATCH('Tariff template'!O17,'Master Values'!$C$53:$C$55,0)),"") -> 0 | Q17: 45047 | R17: 45657
A18: Import | B18: THC - Terminal handling charge | C18: =IFERROR(INDEX('Master Values'!$G$7:$G$36,MATCH('Tariff template'!B18,master_choices,0)),"") -> Terminal Handling Charge at Port | E18: DESTHCF16 | F18: Per Container | G18: 40 | H18: Dry - general/FAK | I18: Single | M18: AED | N18: 1210 | O18: Zero rated | P18: =IFERROR(INDEX('Master Values'!$D$52:$D$54,MATCH('Tariff template'!O18,'Master Values'!$C$53:$C$55,0)),"") -> 0 | Q18: 45047 | R18: 45657
A19: Import | B19: THC - Terminal handling charge | C19: =IFERROR(INDEX('Master Values'!$G$7:$G$36,MATCH('Tariff template'!B19,master_choices,0)),"") -> Terminal Handling Charge at Port | E19: DESTHCF17 | F19: Per Container | G19: 40 | H19: Dry - general/FAK | I19: Multiple | J19: Per Container | K19: 1 | L19: 20 | M19: AED | N19: 1210 | O19: Zero rated | P19: =IFERROR(INDEX('Master Values'!$D$52:$D$54,MATCH('Tariff template'!O19,'Master Values'!$C$53:$C$55,0)),"") -> 0 | Q19: 45047 | R19: 45657
A20: Import | B20: THC - Terminal handling charge | C20: =IFERROR(INDEX('Master Values'!$G$7:$G$36,MATCH('Tariff template'!B20,master_choices,0)),"") -> Terminal Handling Charge at Port | E20: DESTHCF17 | F20: Per Container | G20: 40 | H20: Dry - general/FAK | I20: Multiple | J20: Per Container | K20: 21 | L20: 999999 | M20: AED | N20: 1210 | O20: Zero rated | P20: =IFERROR(INDEX('Master Values'!$D$52:$D$54,MATCH('Tariff template'!O20,'Master Values'!$C$53:$C$55,0)),"") -> 0 | Q20: 45047 | R20: 45657
A21: Import | B21: THC - Terminal handling charge | C21: =IFERROR(INDEX('Master Values'!$G$7:$G$36,MATCH('Tariff template'!B21,master_choices,0)),"") -> Terminal Handling Charge at Port | E21: DESTHCF19 | F21: Per Container | G21: 40 | H21: Reefer | I21: Single | M21: AED | N21: 1210 | O21: Zero rated | P21: =IFERROR(INDEX('Master Values'!$D$52:$D$54,MATCH('Tariff template'!O21,'Master Values'!$C$53:$C$55,0)),"") -> 0 | Q21: 45047 | R21: 45657
A22: Import | B22: THC - Terminal handling charge | C22: =IFERROR(INDEX('Master Values'!$G$7:$G$36,MATCH('Tariff template'!B22,master_choices,0)),"") -> Terminal Handling Charge at Port | E22: DESTHCF20 | F22: Per Container | G22: 40 | H22: Reefer | I22: Multiple | J22: Per Container | K22: 1 | L22: 20 | M22: AED | N22: 1210 | O22: Zero rated | P22: =IFERROR(INDEX('Master Values'!$D$52:$D$54,MATCH('Tariff template'!O22,'Master Values'!$C$53:$C$55,0)),"") -> 0 | Q22: 45047 | R22: 45657
A23: Import | B23: THC - Terminal handling charge | C23: =IFERROR(INDEX('Master Values'!$G$7:$G$36,MATCH('Tariff template'!B23,master_choices,0)),"") -> Terminal Handling Charge at Port | E23: DESTHCF20 | F23: Per Container | G23: 40 | H23: Reefer | I23: Multiple | J23: Per Container | K23: 21 | L23: 999999 | M23: AED | N23: 1210 | O23: Zero rated | P23: =IFERROR(INDEX('Master Values'!$D$52:$D$54,MATCH('Tariff template'!O23,'Master Values'!$C$53:$C$55,0)),"") -> 0 | Q23: 45047 | R23: 45657
A24: Import | B24: THC - Terminal handling charge | C24: =IFERROR(INDEX('Master Values'!$G$7:$G$36,MATCH('Tariff template'!B24,master_choices,0)),"") -> Terminal Handling Charge at Port | E24: DESTHCF22 | F24: Per Container | G24: 40 | H24: Hazardous | I24: Single | M24: AED | N24: 1785 | O24: Zero rated | P24: =IFERROR(INDEX('Master Values'!$D$52:$D$54,MATCH('Tariff template'!O24,'Master Values'!$C$53:$C$55,0)),"") -> 0 | Q24: 45047 | R24: 45657
A25: Import | B25: THC - Terminal handling charge | C25: =IFERROR(INDEX('Master Values'!$G$7:$G$36,MATCH('Tariff template'!B25,master_choices,0)),"") -> Terminal Handling Charge at Port | E25: DESTHCF23 | F25: Per Container | G25: 40 | H25: Hazardous | I25: Multiple | J25: Per Container | K25: 1 | L25: 20 | M25: AED | N25: 1785 | O25: Zero rated | P25: =IFERROR(INDEX('Master Values'!$D$52:$D$54,MATCH('Tariff template'!O25,'Master Values'!$C$53:$C$55,0)),"") -> 0 | Q25: 45047 | R25: 45657
A26: Import | B26: THC - Terminal handling charge | C26: =IFERROR(INDEX('Master Values'!$G$7:$G$36,MATCH('Tariff template'!B26,master_choices,0)),"") -> Terminal Handling Charge at Port | E26: DESTHCF23 | F26: Per Container | G26: 40 | H26: Hazardous | I26: Multiple | J26: Per Container | K26: 21 | L26: 999999 | M26: AED | N26: 1785 | O26: Zero rated | P26: =IFERROR(INDEX('Master Values'!$D$52:$D$54,MATCH('Tariff template'!O26,'Master Values'!$C$53:$C$55,0)),"") -> 0 | Q26: 45047 | R26: 45657
A27: Import | B27: THC - Terminal handling charge | C27: =IFERROR(INDEX('Master Values'!$G$7:$G$36,MATCH('Tariff template'!B27,master_choices,0)),"") -> Terminal Handling Charge at Port | E27: DESTHCF25 | F27: Per Container | G27: 40 | H27: Out-of-gauge | I27: Single | M27: AED | N27: 1210 | O27: Zero rated | P27: =IFERROR(INDEX('Master Values'!$D$52:$D$54,MATCH('Tariff template'!O27,'Master Values'!$C$53:$C$55,0)),"") -> 0 | Q27: 45047 | R27: 45657
A28: Import | B28: THC - Terminal handling charge | C28: =IFERROR(INDEX('Master Values'!$G$7:$G$36,MATCH('Tariff template'!B28,master_choices,0)),"") -> Terminal Handling Charge at Port | E28: DESTHCF26 | F28: Per Container | G28: 40 | H28: Out-of-gauge | I28: Multiple | J28: Per Container | K28: 1 | L28: 20 | M28: AED | N28: 1210 | O28: Zero rated | P28: =IFERROR(INDEX('Master Values'!$D$52:$D$54,MATCH('Tariff template'!O28,'Master Values'!$C$53:$C$55,0)),"") -> 0 | Q28: 45047 | R28: 45657
A29: Import | B29: THC - Terminal handling charge | C29: =IFERROR(INDEX('Master Values'!$G$7:$G$36,MATCH('Tariff template'!B29,master_choices,0)),"") -> Terminal Handling Charge at Port | E29: DESTHCF26 | F29: Per Container | G29: 40 | H29: Out-of-gauge | I29: Multiple | J29: Per Container | K29: 21 | L29: 999999 | M29: AED | N29: 1210 | O29: Zero rated | P29: =IFERROR(INDEX('Master Values'!$D$52:$D$54,MATCH('Tariff template'!O29,'Master Values'!$C$53:$C$55,0)),"") -> 0 | Q29: 45047 | R29: 45657
A30: Import | B30: THC - Terminal handling charge | C30: =IFERROR(INDEX('Master Values'!$G$7:$G$36,MATCH('Tariff template'!B30,master_choices,0)),"") -> Terminal Handling Charge at Port | E30: DESTHCF28 | F30: Per Container | G30: 40 | H30: Misc | I30: Single | M30: AED | N30: 1210 | O30: Zero rated | P30: =IFERROR(INDEX('Master Values'!$D$52:$D$54,MATCH('Tariff template'!O30,'Master Values'!$C$53:$C$55,0)),"") -> 0 | Q30: 45047 | R30: 45657
A31: Import | B31: THC - Terminal handling charge | C31: =IFERROR(INDEX('Master Values'!$G$7:$G$36,MATCH('Tariff template'!B31,master_choices,0)),"") -> Terminal Handling Charge at Port | E31: DESTHCF29 | F31: Per Container | G31: 40 | H31: Misc | I31: Multiple | J31: Per Container | K31: 1 | L31: 20 | M31: AED | N31: 1210 | O31: Zero rated | P31: =IFERROR(INDEX('Master Values'!$D$52:$D$54,MATCH('Tariff template'!O31,'Master Values'!$C$53:$C$55,0)),"") -> 0 | Q31: 45047 | R31: 45657
A32: Import | B32: THC - Terminal handling charge | C32: =IFERROR(INDEX('Master Values'!$G$7:$G$36,MATCH('Tariff template'!B32,master_choices,0)),"") -> Terminal Handling Charge at Port | E32: DESTHCF29 | F32: Per Container | G32: 40 | H32: Misc | I32: Multiple | J32: Per Container | K32: 21 | L32: 999999 | M32: AED | N32: 1210 | O32: Zero rated | P32: =IFERROR(INDEX('Master Values'!$D$52:$D$54,MATCH('Tariff template'!O32,'Master Values'!$C$53:$C$55,0)),"") -> 0 | Q32: 45047 | R32: 45657
A33: Import | B33: THC - Terminal handling charge | C33: =IFERROR(INDEX('Master Values'!$G$7:$G$36,MATCH('Tariff template'!B33,master_choices,0)),"") -> Terminal Handling Charge at Port | E33: DESTHCF31 | F33: Per Container | G33: 45 | H33: Dry - general/FAK | I33: Single | M33: AED | N33: 1210 | O33: ZERO RATED | P33: =IFERROR(INDEX('Master Values'!$D$52:$D$54,MATCH('Tariff template'!O33,'Master Values'!$C$53:$C$55,0)),"") -> 0 | Q33: 45047 | R33: 45657
A34: Import | B34: THC - Terminal handling charge | C34: =IFERROR(INDEX('Master Values'!$G$7:$G$36,MATCH('Tariff template'!B34,master_choices,0)),"") -> Terminal Handling Charge at Port | E34: DESTHCF32 | F34: Per Container | G34: 45 | H34: Dry - general/FAK | I34: Multiple | J34: Per Container | K34: 1 | L34: 20 | M34: AED | N34: 1210 | O34: ZERO RATED | P34: =IFERROR(INDEX('Master Values'!$D$52:$D$54,MATCH('Tariff template'!O34,'Master Values'!$C$53:$C$55,0)),"") -> 0 | Q34: 45047 | R34: 45657
A35: Import | B35: THC - Terminal handling charge | C35: =IFERROR(INDEX('Master Values'!$G$7:$G$36,MATCH('Tariff template'!B35,master_choices,0)),"") -> Terminal Handling Charge at Port | E35: DESTHCF32 | F35: Per Container | G35: 45 | H35: Dry - general/FAK | I35: Multiple | J35: Per Container | K35: 21 | L35: 999999 | M35: AED | N35: 1210 | O35: ZERO RATED | P35: =IFERROR(INDEX('Master Values'!$D$52:$D$54,MATCH('Tariff template'!O35,'Master Values'!$C$53:$C$55,0)),"") -> 0 | Q35: 45047 | R35: 45657
A36: Import | B36: THC - Terminal handling charge | C36: =IFERROR(INDEX('Master Values'!$G$7:$G$36,MATCH('Tariff template'!B36,master_choices,0)),"") -> Terminal Handling Charge at Port | E36: DESTHCF33 | F36: Per Container | G36: 45 | H36: Reefer | I36: Single | M36: AED | N36: 1210 | O36: ZERO RATED | P36: =IFERROR(INDEX('Master Values'!$D$52:$D$54,MATCH('Tariff template'!O36,'Master Values'!$C$53:$C$55,0)),"") -> 0 | Q36: 45047 | R36: 45657
A37: Import | B37: THC - Terminal handling charge | C37: =IFERROR(INDEX('Master Values'!$G$7:$G$36,MATCH('Tariff template'!B37,master_choices,0)),"") -> Terminal Handling Charge at Port | E37: DESTHCF34 | F37: Per Container | G37: 45 | H37: Reefer | I37: Multiple | J37: Per Container | K37: 1 | L37: 20 | M37: AED | N37: 1210 | O37: ZERO RATED | P37: =IFERROR(INDEX('Master Values'!$D$52:$D$54,MATCH('Tariff template'!O37,'Master Values'!$C$53:$C$55,0)),"") -> 0 | Q37: 45047 | R37: 45657
A38: Import | B38: THC - Terminal handling charge | C38: =IFERROR(INDEX('Master Values'!$G$7:$G$36,MATCH('Tariff template'!B38,master_choices,0)),"") -> Terminal Handling Charge at Port | E38: DESTHCF34 | F38: Per Container | G38: 45 | H38: Reefer | I38: Multiple | J38: Per Container | K38: 21 | L38: 999999 | M38: AED | N38: 1210 | O38: ZERO RATED | P38: =IFERROR(INDEX('Master Values'!$D$52:$D$54,MATCH('Tariff template'!O38,'Master Values'!$C$53:$C$55,0)),"") -> 0 | Q38: 45047 | R38: 45657
A39: Import | B39: THC - Terminal handling charge | C39: =IFERROR(INDEX('Master Values'!$G$7:$G$36,MATCH('Tariff template'!B39,master_choices,0)),"") -> Terminal Handling Charge at Port | E39: DESTHCF36 | F39: Per Container | G39: 45 | H39: Hazardous | I39: Single | M39: AED | N39: 1785 | O39: ZERO RATED | P39: =IFERROR(INDEX('Master Values'!$D$52:$D$54,MATCH('Tariff template'!O39,'Master Values'!$C$53:$C$55,0)),"") -> 0 | Q39: 45047 | R39: 45657
A40: Import | B40: THC - Terminal handling charge | C40: =IFERROR(INDEX('Master Values'!$G$7:$G$36,MATCH('Tariff template'!B40,master_choices,0)),"") -> Terminal Handling Charge at Port | E40: DESTHCF37 | F40: Per Container | G40: 45 | H40: Hazardous | I40: Multiple | J40: Per Container | K40: 1 | L40: 20 | M40: AED | N40: 1785 | O40: ZERO RATED | P40: =IFERROR(INDEX('Master Values'!$D$52:$D$54,MATCH('Tariff template'!O40,'Master Values'!$C$53:$C$55,0)),"") -> 0 | Q40: 45047 | R40: 45657
...

Sheet Master Values
B5: Trade Type | F5: Tariff (incl. Misc) + description | K5: UOM mapping to Tariff Category | AP5: SLAB mapping to UOM | AY5: Cargo type mapping to UOM | BH5: Container size mapping to UOM | BO5: Slab from/to mapping to Slab
B6: Trade Type code | C6: Trade Type Description | F6: Tariff | G6: Tariff description | H6: UOM | K6: {=TRANSPOSE(F7:F36)} -> ADMIN - Miscellaneous (Any documentation fee e.g. manual doc fee / certificate issuance fee / amendments fee etc.) | L6: BOL - B/L amendment fee | M6: BOL - B/L fee | N6: BOL - Miscellaneous | O6: BOL - Switch B/L fee | P6: CUSTOMS - Customs clearance/ brokerage fees | Q6: CUSTOMS - Customs inspection fees | R6: DC - Dubai Chamber of Commerce attestation & certifications | S6: DM - Dubai Municipality Permits and Inspections | T6: DM - Dubai Municipality Product Registration Fees | U6: DO - D/O fee | V6: DO - Miscellaneous | W6: LD - Demurrage/Detention charge | X6: MISC - Any sea container charge not within standardized tariff categories | Y6: MOCCAE - MOCCAE clearances | Z6: MOH - Ministry of Health MOH Permit and Approvals | AA6: SEAL - Seal charge | AB6: SERVICE - Miscellaneous | AC6: SERVICE - Monitoring charge | AD6: SERVICE - Overweight surcharge | AE6: SERVICE - Use of special gear surcharge | AF6: SERVICE - Weighment at port charge | AG6: SHIFT - Inter terminal transfer charge | AH6: SHIFT - Lift on – lift off charge (TLUC) | AI6: SHIFT - Miscellaneous | AJ6: LCL Handling | AK6: LCL Storage Covered | AL6: LCL Miscellaneous Charges | AM6: LCL Storage Open | AN6: THC - Terminal handling charge | AP6: Per Container | AQ6: Per Document | AR6: Per Container/Day | AS6: Per Freight Ton | AT6: =$C$24 -> Per Freight Ton/Day | AU6: Per Seal | AY6: Per Container | AZ6: Per Document | BA6: Per Container/Day | BB6: Per Freight Ton | BC6: =$C$24 -> Per Freight Ton/Day | BD6: Per Seal | BH6: Per Container | BI6: Per Document | BJ6: Per Container/Day | BK6: Per Freight Ton | BL6: =$C$24 -> Per Freight Ton/Day | BM6: Per Seal | BO6: Single | BP6: Multiple
B7: I | C7: Import | F7: ADMIN - Miscellaneous (Any documentation fee e.g. manual doc fee / certificate issuance fee / amendments fee etc.) | G7: Mandatory manual description: Insert in column "D" | H7: All UOM options | K7: =$C$19 -> Per Container | L7: =$C$21 -> Per Document | M7: =$C$21 -> Per Document | N7: =$C$21 -> Per Document | O7: =$C$21 -> Per Document | P7: =$C$21 -> Per Document | Q7: =$C$19 -> Per Container | R7: =$C$21 -> Per Document | S7: =$C$19 -> Per Container | T7: =$C$19 -> Per Container | U7: =$C$21 -> Per Document | V7: =$C$21 -> Per Document | W7: =$C$20 -> Per Container/Day | X7: =$C$19 -> Per Container | Y7: =$C$21 -> Per Document | Z7: =$C$21 -> Per Document | AA7: =$C$22 -> Per Seal | AB7: =$C$19 -> Per Container | AC7: =$C$19 -> Per Container | AD7: =$C$19 -> Per Container | AE7: =$C$19 -> Per Container | AF7: =$C$19 -> Per Container | AG7: =$C$19 -> Per Container | AH7: =$C$19 -> Per Container | AI7: =$C$19 -> Per Container | AJ7: =$C$23 -> Per Freight Ton | AK7: =$C$24 -> Per Freight Ton/Day | AL7: =$C$19 -> Per Container | AM7: =$C$24 -> Per Freight Ton/Day | AN7: =$C$19 -> Per Container | AP7: Single | AQ7: Single | AR7: Single | AS7: Single | AT7: Single | AU7: Single | AY7: =$C$37 -> Dry - general/FAK | AZ7: =$C$37 -> Dry - general/FAK | BA7: =$C$37 -> Dry - general/FAK | BB7: =$C$37 -> Dry - general/FAK | BC7: =$C$37 -> Dry - general/FAK | BD7: =$C$37 -> Dry - general/FAK | BH7: =C28 -> 20 | BI7: =BH7 -> 20 | BJ7: =$C$28 -> 20 | BK7: =$C$28 -> 20 | BL7: =$C$28 -> 20 | BM7: =$C$28 -> 20 | BP7: 1
B8: E | C8: Export | F8: BOL - B/L amendment fee | G8: Bill of Lading amendment charge | H8: =C$21 -> Per Document | K8: =$C$21 -> Per Document | Q8: =$C$21 -> Per Document | S8: =$C$21 -> Per Document | T8: =$C$21 -> Per Document | X8: =$C$21 -> Per Document | AB8: =$C$20 -> Per Container/Day | AC8: =$C$20 -> Per Container/Day | AL8: =$C$21 -> Per Document | AP8: Multiple | AQ8: Multiple | AR8: Multiple | AS8: Multiple | AT8: Multiple | AU8: Multiple | AY8: =$C$38 -> Reefer | AZ8: =$C$38 -> Reefer | BA8: =$C$38 -> Reefer | BB8: =$C$38 -> Reefer | BC8: =$C$38 -> Reefer | BD8: =$C$38 -> Reefer | BH8: =C29 -> 40 | BI8: =BH8 -> 40 | BJ8: =$C$29 -> 40 | BK8: =$C$29 -> 40 | BL8: =$C$29 -> 40 | BM8: =$C$29 -> 40 | BP8: 2
F9: BOL - B/L fee | G9: Bill of Lading issuance charge | H9: =C$21 -> Per Document | K9: =$C$20 -> Per Container/Day | Q9: =$C$20 -> Per Container/Day | S9: =$C$20 -> Per Container/Day | T9: =$C$20 -> Per Container/Day | X9: =$C$20 -> Per Container/Day | AB9: =$C$23 -> Per Freight Ton | AL9: =$C$20 -> Per Container/Day | AY9: =$C$39 -> Hazardous | AZ9: =$C$39 -> Hazardous | BA9: =$C$39 -> Hazardous | BB9: =$C$39 -> Hazardous | BC9: =$C$39 -> Hazardous | BD9: =$C$39 -> Hazardous | BH9: =C30 -> 45 | BI9: =BH9 -> 45 | BJ9: =$C$30 -> 45 | BK9: =$C$30 -> 45 | BL9: =$C$30 -> 45 | BM9: =$C$30 -> 45 | BP9: 3
F10: BOL - Miscellaneous | G10: Mandatory manual description: Insert in column "D" | H10: =C$21 -> Per Document | K10: =$C$22 -> Per Seal | Q10: =$C$22 -> Per Seal | S10: =$C$22 -> Per Seal | T10: =$C$22 -> Per Seal | X10: =$C$22 -> Per Seal | AB10: =$C$24 -> Per Freight Ton/Day | AL10: =$C$23 -> Per Freight Ton | AY10: =$C$40 -> Out-of-gauge | AZ10: =$C$40 -> Out-of-gauge | BA10: =$C$40 -> Out-of-gauge | BB10: =$C$40 -> Out-of-gauge | BC10: =$C$40 -> Out-of-gauge | BD10: =$C$40 -> Out-of-gauge | BH10: =C31 -> N/A | BI10: =BH10 -> N/A | BJ10: =$C$31 -> N/A | BK10: =$C$31 -> N/A | BL10: =$C$31 -> N/A | BM10: =$C$31 -> N/A | BP10: 4
B11: Tariff Slabs | F11: BOL - Switch B/L fee | G11: Switch Bill of Lading charge | H11: =C$21 -> Per Document | K11: =$C$23 -> Per Freight Ton | Q11: =$C$23 -> Per Freight Ton | S11: =$C$23 -> Per Freight Ton | T11: =$C$23 -> Per Freight Ton | X11: =$C$23 -> Per Freight Ton | AL11: =$C$24 -> Per Freight Ton/Day | AY11: =$C$41 -> Misc | AZ11: =$C$41 -> Misc | BA11: =$C$41 -> Misc | BB11: =$C$41 -> Misc | BC11: =$C$41 -> Misc | BD11: =$C$41 -> Misc | BH11: =C32 -> All - Any container size | BI11: =BH11 -> All - Any container size | BJ11: =$C$32 -> All - Any container size | BK11: =$C$32 -> All - Any container size | BL11: =$C$32 -> All - Any container size | BM11: =$C$32 -> All - Any container size | BP11: 5
B12: Tariff Slab Code | C12: Tariff Slab Description | F12: CUSTOMS - Customs clearance/ brokerage fees | G12: Customs clearance/ brokerage fees | H12: =C$21 -> Per Document | K12: =$C$24 -> Per Freight Ton/Day | Q12: =$C$24 -> Per Freight Ton/Day | S12: =$C$24 -> Per Freight Ton/Day | T12: =$C$24 -> Per Freight Ton/Day | X12: =$C$24 -> Per Freight Ton/Day | BP12: 6
B13: S | C13: Single | F13: CUSTOMS - Customs inspection fees | G13: Customs inspection fees (Import & Export) | H13: All UOM options | BP13: 7
B14: M | C14: Multiple | F14: DC - Dubai Chamber of Commerce attestation & certifications | G14: Dubai Chamber of Commerce attestation & certifications | H14: =C$21 -> Per Document | BP14: 8
F15: DM - Dubai Municipality Permits and Inspections | G15: Dubai Municipality Permits and Inspections | H15: All UOM options | BP15: 9
F16: DM - Dubai Municipality Product Registration Fees | G16: Dubai Municipality Product Registration Fees (Montaji) | H16: All UOM options | BP16: 10
B17: UOM | F17: DO - D/O fee | G17: Delivery Order issuance Charge | H17: =C$21 -> Per Document | BP17: 11
B18: UOM Code | C18: UOM Description | F18: DO - Miscellaneous | G18: Mandatory manual description: Insert in column "D" | H18: =C$21 -> Per Document | BP18: 12
B19: PC | C19: Per Container | F19: LD - Demurrage/Detention charge | G19: Container Line Demurrage / Detention charge | H19: =C$20 -> Per Container/Day | BP19: 13
B20: PCD | C20: Per Container/Day | F20: MISC - Any sea container charge not within standardized tariff categories | G20: Mandatory manual description: Insert in column "D" | H20: All UOM options | BP20: 14
B21: PD | C21: Per Document | F21: MOCCAE - MOCCAE clearances | G21: MOCCAE clearances (Ministry of Climate Change and Environment) | H21: =C$21 -> Per Document | BP21: 15
B22: PS | C22: Per Seal | F22: MOH - Ministry of Health MOH Permit and Approvals | G22: Ministry of Health MOH Permit and Approvals | H22: =C$21 -> Per Document | BP22: 16
B23: PFRT | C23: Per Freight Ton | F23: SEAL - Seal charge | G23: Container Seal charge | H23: =$C$22 -> Per Seal | BP23: 17
B24: PFRTD | C24: Per Freight Ton/Day | F24: SERVICE - Miscellaneous | G24: Mandatory manual description: Insert in column "D" | H24: =$C$19&"; "&$C$20&"; "&$C$23&"; "&$C$24 -> Per Container; Per Container/Day; Per Freight Ton; Per Freight Ton/Day | BP24: 18
F25: SERVICE - Monitoring charge | G25: Container monitoring / inspection charge (e.g. reefer/ hazardous) | H25: =$C$19&"; "&$C$20 -> Per Container; Per Container/Day | BP25: 19
B26: Container size | F26: SERVICE - Overweight surcharge | G26: Container overweight surcharge | H26: =C$19 -> Per Container | BP26: 20
B27: UOM Code | C27: UOM Description | F27: SERVICE - Use of special gear surcharge | G27: Special gear surcharge | H27: =$C$19 -> Per Container | BP27: 21
B28: 20_ftr | C28: 20 | F28: SERVICE - Weighment at port charge | G28: Container weighment charge | H28: =C$19 -> Per Container | BP28: 22
B29: 40_ftr | C29: 40 | F29: SHIFT - Inter terminal transfer charge | G29: Charge for Inter-Terminal transfer of Containers | H29: =$C$19 -> Per Container | BP29: 23
B30: 45_ftr | C30: 45 | F30: SHIFT - Lift on – lift off charge (TLUC) | G30: Charge for Loading and Unloading containers To / From Trucks within Port | H30: =C$19 -> Per Container | BP30: 24
B31: NA | C31: N/A | F31: SHIFT - Miscellaneous | G31: Mandatory manual description: Insert in column "D" | H31: =$C$19 -> Per Container | BP31: 25
B32: All | C32: All - Any container size | F32: LCL Handling | G32: LCL Cargo Handling Charge | H32: =C$23 -> Per Freight Ton | BP32: 26
F33: LCL Storage Covered | G33: LCL Cargo Covered storage charge | H33: =C$24 -> Per Freight Ton/Day | BP33: 27
F34: LCL Miscellaneous Charges | G34: Mandatory manual description: Insert in column "D" | H34: =$C$19&"; "&$C$20&"; "&$C$21&"; "&$C$23&"; "&$C$24 -> Per Container; Per Container/Day; Per Document; Per Freight Ton; Per Freight Ton/Day | BP34: 28
B35: Cargo type | F35: LCL Storage Open | G35: LCL Cargo Open Storage charge | H35: =C$24 -> Per Freight Ton/Day | BP35: 29
B36: UOM Code | C36: UOM Description | F36: THC - Terminal handling charge | G36: Terminal Handling Charge at Port | H36: =C$19 -> Per Container | BP36: 30
B37: DRY | C37: Dry - general/FAK | BP37: 31
B38: REEFER | C38: Reefer | BP38: 32
B39: HAZ | C39: Hazardous | BP39: 33
B40: OOG | C40: Out-of-gauge | BP40: 34
B41: OTHERS | C41: Misc | BP41: 35
BP42: 36
BP43: 37
BP44: 38
...
